BEGIN:VCALENDAR
PRODID:NingEventWidget-v1
VERSION:2.0
METHOD:PUBLISH
BEGIN:VTIMEZONE
TZID:Europe/Paris
X-LIC-LOCATION:Europe/Paris
BEGIN:DAYLIGHT
TZOFFSETFROM:+0100
TZOFFSETTO:+0200
TZNAME:CEST
DTSTART:19700329T020000
RRULE:FREQ=YEARLY;BYMONTH=3;BYDAY=-1SU
END:DAYLIGHT
BEGIN:STANDARD
TZOFFSETFROM:+0200
TZOFFSETTO:+0100
TZNAME:CET
DTSTART:19701025T030000
RRULE:FREQ=YEARLY;BYMONTH=10;BYDAY=-1SU
END:STANDARD
END:VTIMEZONE
BEGIN:VEVENT
UID:2485226:Event:1109648
DTSTAMP:20260422T024748Z
SUMMARY:Cercle \"Filles de la Lune et de l'Eau\"
DESCRIPTION:C E R C L E D E F E M M E S \" Filles de la Lune et de l â
 €™Eau\" T.M.\nÂ \nUne initiation de porteuses dâ€™eaux ... pour porter
  les Aguas Unidas ... pour soigner les eaux de la Terre MĂ¨re ... pour
  soigner nos eaux ...\navec MinthĂ©\nen DrĂ´me (Sud France - 26) - Ă  
 DonzĂ¨re du 25 au 27 janvier 2013\nÂ \nhttp://www.aguasunidas.com/page
 s/Cercles_de_femmes_initiatiques_-5251934.htmlhttp://www.aguasunidas.c
 om/pages/_Drome_du_25_au_27_janvier_pleine_lune-8265783.html\nÂ \nA ce
 tte occasion, MinthĂ© nous initiera Ă  la Danse SacrĂ©e des 7 directio
 nsâ„˘\nÂ \nMissionnaire de lâ€™eau, dâ€™origine wallonne, MinthĂ© est 
 connue internationalement comme \" la Chamane de lâ€™Eau \"\nElle marc
 he son chemin avec les \" Aguas Unidasâ„˘ \" , les Eaux SacrĂ©es rĂ©un
 ies de la MĂ¨re Terre ...\nMinthĂ© est lâ€™initiatrice de \" Be the da
 nce ... you want to see in the world ! \" avec la Danse SacrĂ©e des 7 
 Directionsâ„˘ et des Cercles de Femmes \" Filles de la Lune et de lâ€™
 Eauâ„˘ \"\nElle est lâ€™une des Grands-MĂ¨res du \" Cercle de Sagesse 
 de lâ€™Union des Traditions Ancestrales\" et de \" Sisterhood of Plane
 tary Water Rites\"\nÂ \nhttp://www.aguasunidas.com/\nminthe live fr\n\
 nPour plus d'information, aller sur https://epanews.fr/events/cercle-f
 illes-de-la-lune-et-de-l-eau-1
DTSTART;TZID=Europe/Paris:20130125T180000
DTEND;TZID=Europe/Paris:20130127T190000
CATEGORIES:26
LOCATION:DrĂ´me
WEBSITE:http://www.aguasunidas.com/pages/_Drome_du_25_au_27_janvier_pl
 eine_lune-8265783.html
URL:http://www.aguasunidas.com/pages/_Drome_du_25_au_27_janvier_pleine
 _lune-8265783.html
CONTACT:
ORGANIZER;CN=MinthĂ©:https://epanews.fr/profile/Minthe
ATTACH;FMTTYPE="image/jpeg":
ATTENDEE;ROLE=REQ-PARTICIPANT;PARTSTAT=ACCEPTED;RSVP=TRUE;CN=MinthĂ©:h
 ttps://epanews.fr/profile/Minthe
END:VEVENT
END:VCALENDAR
