BEGIN:VCALENDAR
PRODID:NingEventWidget-v1
VERSION:2.0
METHOD:PUBLISH
BEGIN:VTIMEZONE
TZID:Europe/Paris
X-LIC-LOCATION:Europe/Paris
BEGIN:DAYLIGHT
TZOFFSETFROM:+0100
TZOFFSETTO:+0200
TZNAME:CEST
DTSTART:19700329T020000
RRULE:FREQ=YEARLY;BYMONTH=3;BYDAY=-1SU
END:DAYLIGHT
BEGIN:STANDARD
TZOFFSETFROM:+0200
TZOFFSETTO:+0100
TZNAME:CET
DTSTART:19701025T030000
RRULE:FREQ=YEARLY;BYMONTH=10;BYDAY=-1SU
END:STANDARD
END:VTIMEZONE
BEGIN:VEVENT
UID:2485226:Event:2871625
DTSTAMP:20260422T012113Z
SUMMARY:Cercle du Zodiaque
DESCRIPTION:L 'A t e l i e r     d e      l a     p e t i t e
      v o i x\n \nLE SOLEIL,\nvotre signe de naissance \n \nEnsei
 gnement des douze signes astrologiques\n& éclairage de votre thème n
 atal\n \nDimanche 8 octobre 2017\nde 9h30 à 18h à Claix, au sud d'A
 ngoulême\n \nUn art de connaissance de soi, en dehors de toute préd
 iction.\nPour mieux comprendre les visions du monde de ceux qui vous e
 ntourent (parents, enfant(s), conjoint, élèves...) \nCet atelier n
 e demande pas de connaissances en astrologie.\nInscription nécessaire
  au 06.82.46.54.15\navant le 30/09/17.\nCercle de 4 personnes maximum\
 nPlus de renseignements en me contactant ou sur le site de l'Atelier d
 e la petite voix.\n\nPour plus d'information, aller sur https://epanew
 s.fr/events/cercle-du-zodiaque
DTSTART;TZID=Europe/Paris:20171008T093000
DTEND;TZID=Europe/Paris:20171008T180000
CATEGORIES:16
LOCATION:Claix
WEBSITE:http://www.latelierdelapetitevoix.com
URL:http://www.latelierdelapetitevoix.com
CONTACT:
ORGANIZER:
ATTACH;FMTTYPE="image/jpeg":http://storage.ning.com/topology/rest/1.0/
 file/get/1663687461?profile=original
ATTENDEE;ROLE=REQ-PARTICIPANT;PARTSTAT=ACCEPTED;RSVP=TRUE;CN=Armelle:h
 ttps://epanews.fr/profile/Armelle990
ATTENDEE;ROLE=REQ-PARTICIPANT;PARTSTAT=TENTATIVE;RSVP=TRUE;CN=Fabienne
 :https://epanews.fr/profile/grellierfabienne
END:VEVENT
END:VCALENDAR
