BEGIN:VCALENDAR
PRODID:NingEventWidget-v1
VERSION:2.0
METHOD:PUBLISH
BEGIN:VTIMEZONE
TZID:Europe/Paris
X-LIC-LOCATION:Europe/Paris
BEGIN:DAYLIGHT
TZOFFSETFROM:+0100
TZOFFSETTO:+0200
TZNAME:CEST
DTSTART:19700329T020000
RRULE:FREQ=YEARLY;BYMONTH=3;BYDAY=-1SU
END:DAYLIGHT
BEGIN:STANDARD
TZOFFSETFROM:+0200
TZOFFSETTO:+0100
TZNAME:CET
DTSTART:19701025T030000
RRULE:FREQ=YEARLY;BYMONTH=10;BYDAY=-1SU
END:STANDARD
END:VTIMEZONE
BEGIN:VEVENT
UID:2485226:Event:1867229
DTSTAMP:20260421T135030Z
SUMMARY:cercle de pardon
DESCRIPTION:Cercle de Pardon\n(rituel de Olivier Clerc reçu de Miguel
  Ruiz, auteur des 5 accords Toltèques.)\nPardonner, c'est :\nguérir 
 son propre cœur, se libérer de l'étau du ressentiment, de la rancun
 e ou de la haine, retrouver sa liberté d'aimer.\nPardonner ce n'est p
 as :\nce n'est pas perdre tout discernement, ce n'est pas cautionner 
 ce que l'autre a fait, ce n'est pas forcément se réconcilier. On peu
 t faire œuvre de pardon ET traduire quelqu'un en Justice ou simplemen
 t décider de ne plus le revoir durant un temps. La tête est là pour
  protéger le cœur.\nA travers l'approche transpersonnelle, vos bless
 ures peuvent se réparer et l'amour recirculer au-delà de tout ce que
  vous pouvez prévoir ou imaginer.\nCertes, il n'est pas facile de par
 donner ou de demander pardon et pourtant, ce rituel vous donne la poss
 ibilité d'exprimer un pardon et d'en recevoir un de chaque participan
 t.\nLa cérémonie qui couronne l'atelier vous invite à faire la paix
  avec ceux qui vous entourent et surtout avec vous-mêmes.\nComme notr
 e inconscient ne différencie pas le réel et l'irréel, ce rituel est
  une expérience vécue et donc libératrice, une vraie douche purifia
 nte pour le cœur qu'il convient de renouveler comme nous le faisons r
 égulièrement pour notre corps.\nLe tarif sera de 10 ou 12 € en fon
 ction du nombre de participants pour couvrir les frais\n\nPour plus d'
 information, aller sur https://epanews.fr/events/cercle-du-pardon-sur-
 paris
DTSTART;TZID=Europe/Paris:20140426T150000
DTEND;TZID=Europe/Paris:20140426T180000
CATEGORIES:75
LOCATION:PARIS
WEBSITE:http://www.cerclesdepardon.fr/news/un-cercle-de-pardon-a-paris
 .html
URL:http://www.cerclesdepardon.fr/news/un-cercle-de-pardon-a-paris.htm
 l
CONTACT:0661485713
ORGANIZER;CN=planeuse:https://epanews.fr/profile/planeuse
ATTACH;FMTTYPE="image/jpeg":http://storage.ning.com/topology/rest/1.0/
 file/get/1663108855?profile=original
ATTENDEE;ROLE=REQ-PARTICIPANT;PARTSTAT=ACCEPTED;RSVP=TRUE;CN=planeuse:
 https://epanews.fr/profile/planeuse
END:VEVENT
END:VCALENDAR
