BEGIN:VCALENDAR
PRODID:NingEventWidget-v1
VERSION:2.0
METHOD:PUBLISH
BEGIN:VTIMEZONE
TZID:Europe/Paris
X-LIC-LOCATION:Europe/Paris
BEGIN:DAYLIGHT
TZOFFSETFROM:+0100
TZOFFSETTO:+0200
TZNAME:CEST
DTSTART:19700329T020000
RRULE:FREQ=YEARLY;BYMONTH=3;BYDAY=-1SU
END:DAYLIGHT
BEGIN:STANDARD
TZOFFSETFROM:+0200
TZOFFSETTO:+0100
TZNAME:CET
DTSTART:19701025T030000
RRULE:FREQ=YEARLY;BYMONTH=10;BYDAY=-1SU
END:STANDARD
END:VTIMEZONE
BEGIN:VEVENT
UID:2485226:Event:2100100
DTSTAMP:20260422T164625Z
SUMMARY:cercle du pardon sur Paris selon un rituel de Miguel RUIS
DESCRIPTION:\nPardonner, c'est :\nguérir son propre coeur, se libére
 r de l'étau du ressentiment, de la rancune ou de la haine, retrouver 
 sa liberté d'aimer.\nPardonner ce n'est pas :\nce n'est pas perdre t
 out discernement, ce n'est pas cautionner ce que l'autre a fait, ce n'
 est pas forcément se réconcilier.\nCertes, il n'est pas toujours fac
 ile de pardonner ou de demander pardon et pourtant, ce « rituel » 
 vous donne la possibilité d'exprimer un pardon et d'en recevoir un de
  chaque participant.\n\n\nPour plus d'information, aller sur https://e
 panews.fr/events/cercle-du-pardon-sur-paris-selon-un-rituel-de-miguel-
 ruis-1
DTSTART;TZID=Europe/Paris:20141122T150000
DTEND;TZID=Europe/Paris:20141122T180000
CATEGORIES:75
LOCATION:paris 20e
WEBSITE:
URL:
CONTACT:0661485713
ORGANIZER;CN=planeuse:https://epanews.fr/profile/planeuse
ATTACH;FMTTYPE="image/jpeg":http://storage.ning.com/topology/rest/1.0/
 file/get/1663244598?profile=original
ATTENDEE;ROLE=REQ-PARTICIPANT;PARTSTAT=ACCEPTED;RSVP=TRUE;CN=planeuse:
 https://epanews.fr/profile/planeuse
END:VEVENT
END:VCALENDAR
