BEGIN:VCALENDAR
PRODID:NingEventWidget-v1
VERSION:2.0
METHOD:PUBLISH
BEGIN:VTIMEZONE
TZID:Europe/Paris
X-LIC-LOCATION:Europe/Paris
BEGIN:DAYLIGHT
TZOFFSETFROM:+0100
TZOFFSETTO:+0200
TZNAME:CEST
DTSTART:19700329T020000
RRULE:FREQ=YEARLY;BYMONTH=3;BYDAY=-1SU
END:DAYLIGHT
BEGIN:STANDARD
TZOFFSETFROM:+0200
TZOFFSETTO:+0100
TZNAME:CET
DTSTART:19701025T030000
RRULE:FREQ=YEARLY;BYMONTH=10;BYDAY=-1SU
END:STANDARD
END:VTIMEZONE
BEGIN:VEVENT
UID:2485226:Event:2020359
DTSTAMP:20260421T171258Z
SUMMARY:cercle du pardon sur Paris 14 septembre 2014
DESCRIPTION:Pardonner, c'est :\nguérir son propre coeur, se libérer 
 de l'étau du ressentiment, de la rancune ou de la haine, retrouver sa
  liberté d'aimer.\n\nPardonner ce n'est pas :\nce n'est pas perdre t
 out discernement, ce n'est pas cautionner ce que l'autre a fait, ce n'
 est pas forcément se réconcilier. On peut faire oeuvre de pardon ET 
 traduire quelqu'un en Justice ou simplement décider de ne plus le rev
 oir durant un temps.\n\nCertes, il n'est pas toujours facile de pardon
 ner ou de demander pardon et pourtant, ce « rituel » vous donne la
  possibilité d'exprimer un pardon et d'en recevoir un de chaque parti
 cipant.\n\nComme notre inconscient ne différencie pas le réel et l'i
 rréel, ce rituel est une expérience vécue et donc dotée d'un poten
 tiel de libération et de purification pour le coeur qu'il est judicie
 ux de renouveler comme nous le faisons régulièrement pour notre corp
 s, afin d'aller de plus en plus profond en nous-mêmes pour enlever to
 utes les strates.\nA travers l'approche transpersonnelle, nos blessure
 s peuvent se réparer et l'amour recirculer au-delà de tout ce que no
 us pouvons prévoir ou imaginer.\nLa cérémonie qui couronne l'atelie
 r nous invite à faire la paix avec ceux qui nous entourent et surtout
  avec nous-mêmes.\nLes places étant limitées, je vous remercie de b
 ien vouloir me contacter pour l'inscription : geegiy@hotmail.com\n\nP
 our plus d'information, aller sur https://epanews.fr/events/cercle-du-
 pardon-sur-paris-14-septembre-2014
DTSTART;TZID=Europe/Paris:20140914T150000
DTEND;TZID=Europe/Paris:20140914T180000
CATEGORIES:75
LOCATION:PARIS 10
WEBSITE:
URL:
CONTACT:0661485713
ORGANIZER;CN=planeuse:https://epanews.fr/profile/planeuse
ATTACH;FMTTYPE="image/jpeg":http://storage.ning.com/topology/rest/1.0/
 file/get/1663200503?profile=original
ATTENDEE;ROLE=REQ-PARTICIPANT;PARTSTAT=ACCEPTED;RSVP=TRUE;CN=planeuse:
 https://epanews.fr/profile/planeuse
END:VEVENT
END:VCALENDAR
