BEGIN:VCALENDAR
PRODID:NingEventWidget-v1
VERSION:2.0
METHOD:PUBLISH
BEGIN:VTIMEZONE
TZID:Europe/Paris
X-LIC-LOCATION:Europe/Paris
BEGIN:DAYLIGHT
TZOFFSETFROM:+0100
TZOFFSETTO:+0200
TZNAME:CEST
DTSTART:19700329T020000
RRULE:FREQ=YEARLY;BYMONTH=3;BYDAY=-1SU
END:DAYLIGHT
BEGIN:STANDARD
TZOFFSETFROM:+0200
TZOFFSETTO:+0100
TZNAME:CET
DTSTART:19701025T030000
RRULE:FREQ=YEARLY;BYMONTH=10;BYDAY=-1SU
END:STANDARD
END:VTIMEZONE
BEGIN:VEVENT
UID:2485226:Event:1939474
DTSTAMP:20260421T204842Z
SUMMARY:Cercle de tambours à Vincennes, Célébration de pleine Lune
DESCRIPTION:\n\nAu Bois de Vincennes (RDV à 20h précises devant la p
 agode Bouddhiste)\n\n\n\n\n\n\nLa puissance du tambour ouvre grandes l
 es portes de la perception, nous connecte au Tout, dans l'instant et n
 ous rappel qui Nous sommes vraiment.  Participer à un Cercle de tambo
 urs est un acte d’amour envers soi-même, envers les \"autres\", env
 ers La Vie!  Ayant participer pendant 3 ans à des célébrations de p
 leine Lune au tambour dans la tradition Amérindienne, je nous accompa
 gnerais dans ce moment sacré en toute simplicité de la manière dont
  j'ai été guidé.  La pleine Lune aura lieu le vendredi 13 Juin à e
 xactement 6h13. L'influence des énergies de la pleine Lune s'étenden
 t sur 3 jours (1 jour avant, le jour même et 1 jour après). Les 12h 
 avant et après l'heure exacte de la pleine Lune sont particulièremen
 t intéressantes pour célébrer ce moment bénis!  S'il pleut le jeud
 i soir (le 12), la célébration sera reportée le lendemain (le vendr
 edi 13 même endroit, même horaires).   Déroulement du cercle:  - Ne
 ttoyage énergétique des participants à la sauge. - Introduction et 
 enseignements inspiré. - 4 tours de tambours. - Bâton de parole. - C
 hants sacrés Amérindiens.   Venez avec vos tambours! Nous avons éga
 lement 7 à prêter! Il y aura aussi des hochets et autres petits inst
 ruments d'accompagnement!  Pas besoin de savoir jouer du tambour, ni d
 'être musicien, ni d'avoir le sens du rythme! Vous serez surpris de l
 'harmonie vibratoire et rythmique qui se crée comme par magie, lorsqu
 e nous nous laissons traverser en toute simplicité, sans volonté et 
 dans la détente d'être! :)   Participation pour la session (3h):  Ta
 rif Plein/Réduit: 30/20 euros   Infos et inscriptions : Yann au 06 24
  34 44 24 conscienceducoeur999@gmail.com  Pour confirmer votre inscrip
 tion, merci d'envoyer un mail ou un sms en indiquant le nombre de pers
 onnes à inscrire. Si vous êtes sûre de venir, vous pouvez vous mett
 re en \"participants\" sur cette page. Sinon, mettez vous en \"peut ê
 tre\". Merci! :)   P.S.: Merci de partager l'information avec vos amis
  et dans vos réseaux... :)  Vous pouvez partager l’événement sur 
 votre page et/ou inviter des amis à l’événement en cliquant sur \
 "inviter\" en haut a droite, puis \"choisir des amis\".   Bienvenue a 
 tous!    Accompagnement individuel sur Paris:  Rêves éveillés, mass
 age énergétique, Reconnexion, Soin énergétiques, Accompagnement Ho
 listique personnalisé, Accompagnement en fin de Vie,...  Tarifs Plein
 / Réduit: 70/50 euros (1h) et 90/70 euros (2h)  Pour en savoir plus: 
  WWW.CONSCIENCEDUCOEUR.COM  page Facebook: \"La Conscience du Coeur\":
   https://www.facebook.com/conscienceducoeur999\n\nPour plus d'informa
 tion, aller sur https://epanews.fr/events/cercle-de-tambours-vincennes
 -c-l-bration-de-pleine-lune
DTSTART;TZID=Europe/Paris:20140602T180000
DTEND;TZID=Europe/Paris:20140602T190000
CATEGORIES:94
LOCATION:à Paris,au Bois de Vincennes (RDV à 20h précises devant la
  pagode Bouddhiste)
WEBSITE:http://www.conscienceducoeur.com
URL:http://www.conscienceducoeur.com
CONTACT:0624344424
ORGANIZER;CN="Conscience du Coeur":https://epanews.fr/profile/Conscien
 ceduCoeur
ATTACH;FMTTYPE="image/jpeg":http://storage.ning.com/topology/rest/1.0/
 file/get/1663150843?profile=original
ATTENDEE;ROLE=REQ-PARTICIPANT;PARTSTAT=ACCEPTED;RSVP=TRUE;CN="Conscien
 ce du Coeur":https://epanews.fr/profile/ConscienceduCoeur
END:VEVENT
END:VCALENDAR
