BEGIN:VCALENDAR
PRODID:NingEventWidget-v1
VERSION:2.0
METHOD:PUBLISH
BEGIN:VTIMEZONE
TZID:Europe/Paris
X-LIC-LOCATION:Europe/Paris
BEGIN:DAYLIGHT
TZOFFSETFROM:+0100
TZOFFSETTO:+0200
TZNAME:CEST
DTSTART:19700329T020000
RRULE:FREQ=YEARLY;BYMONTH=3;BYDAY=-1SU
END:DAYLIGHT
BEGIN:STANDARD
TZOFFSETFROM:+0200
TZOFFSETTO:+0100
TZNAME:CET
DTSTART:19701025T030000
RRULE:FREQ=YEARLY;BYMONTH=10;BYDAY=-1SU
END:STANDARD
END:VTIMEZONE
BEGIN:VEVENT
UID:2485226:Event:2848371
DTSTAMP:20260421T163242Z
SUMMARY:cercle de tambours et cérémonie chamanique
DESCRIPTION:Cristiana et Elian animeront un cercle de tambour vendredi
  28 juillet à 14 heures. Il sera proposé de se mettre en résonnance
  avec le coeur de la Terre-Mère dans un des nombreux lieux sacrés de
  Bretagne. Nous poursuivrons cette célébration avec 1 cérémonie ch
 amanique de nuit à partir de 20 heures. Renseignements et inscription
 s :\nchamanessence@gmail.com\n04 68 98 68 83 - 06 19 23 61 02 - 06 65 
 21 56 38\n\nPour plus d'information, aller sur https://epanews.fr/even
 ts/cercle-de-tambours-et-c-r-monies-chamaniques
DTSTART;TZID=Europe/Paris:20170728T140000
DTEND;TZID=Europe/Paris:20170729T110000
CATEGORIES:56, 29, 22, 35, 44
LOCATION:lorient
WEBSITE:
URL:
CONTACT:
ORGANIZER;CN=cristiana:https://epanews.fr/profile/cristiana
ATTACH;FMTTYPE="image/jpeg":http://storage.ning.com/topology/rest/1.0/
 file/get/1663675334?profile=original
ATTENDEE;ROLE=REQ-PARTICIPANT;PARTSTAT=ACCEPTED;RSVP=TRUE;CN=cristiana
 :https://epanews.fr/profile/cristiana
END:VEVENT
END:VCALENDAR
