BEGIN:VCALENDAR
PRODID:NingEventWidget-v1
VERSION:2.0
METHOD:PUBLISH
BEGIN:VTIMEZONE
TZID:Europe/Paris
X-LIC-LOCATION:Europe/Paris
BEGIN:DAYLIGHT
TZOFFSETFROM:+0100
TZOFFSETTO:+0200
TZNAME:CEST
DTSTART:19700329T020000
RRULE:FREQ=YEARLY;BYMONTH=3;BYDAY=-1SU
END:DAYLIGHT
BEGIN:STANDARD
TZOFFSETFROM:+0200
TZOFFSETTO:+0100
TZNAME:CET
DTSTART:19701025T030000
RRULE:FREQ=YEARLY;BYMONTH=10;BYDAY=-1SU
END:STANDARD
END:VTIMEZONE
BEGIN:VEVENT
UID:2485226:Event:1972587
DTSTAMP:20260424T032908Z
SUMMARY:Cercle de tambours dans la tradition AmÃ©rindienne avec Yann C
 orÃ© et Awen
DESCRIPTION:La puissance du tambour ouvre grandes les portes de la per
 ception, nous connecte au Tout, dans l'instant et nous rappel qui Nous
  sommes vraiment.  Participer Ã  un Cercle de tambours est un acte dâ€
 ™amour envers soi-mÃªme, envers les \"autres\", envers La Vie!  Ayant 
 participÃ© pendant 3 ans Ã  des cÃ©lÃ©brations de pleine Lune au tambo
 ur dans la tradition AmÃ©rindienne, je vous accompagnerai dans ce mome
 nt sacrÃ© en toute simplicitÃ© de la maniÃ¨re dont j'ai Ã©tÃ© guidÃ©. 
   DÃ©roulement du cercle:  - Nettoyage Ã©nergÃ©tique des participants 
 Ã  la sauge. - Introduction et enseignements inspirÃ©. - 4 tours de ta
 mbours. - Chants sacrÃ©s AmÃ©rindiens.   Venez avec vos tambours! Nous
  en avons Ã©galement 6 Ã  prÃªter! Il y aura aussi des hochets et autr
 es petits instruments d'accompagnement!  Pas besoin de savoir jouer du
  tambour, ni d'Ãªtre musicien, ni d'avoir le sens du rythme! Vous sere
 z surpris de l'harmonie vibratoire et rythmique qui se crÃ©e comme par
  magie, lorsque nous nous laissons traverser en toute simplicitÃ©, san
 s volontÃ© et dans la dÃ©tente d'Ãªtre! :)  Horaires: 18h Ã  21h  Part
 icipation pour la session (3h):  Tarif Plein/RÃ©duit: 20 euros   Infos
  et inscriptions : Yann au 06 24 34 44 24 conscienceducoeur999@gmail.c
 om   Pour confirmer votre inscription, merci d'envoyer un mail ou un s
 ms en indiquant le nombre de personnes Ã  inscrire.    P.S.: Merci de 
 partager l'information avec vos amis et dans vos rÃ©seaux... :)   Bien
 venue a tous!   Pour en savoir plus:  site de Yann: WWW.CONSCIENCEDUCO
 EUR.COM  page Facebook: \"La Conscience du Coeur\":  https://www.faceb
 ook.com/conscienceducoeur999  Site d'Awen: WWW.SPIRALEDESENS.FR  page 
 Facebook: \"Spirale de sens\"\n\nPour plus d'information, aller sur ht
 tps://epanews.fr/events/cercle-de-tambours-dans-la-tradition-am-rindie
 nne-avec-yann-cor-4
DTSTART;TZID=Europe/Paris:20140802T180000
DTEND;TZID=Europe/Paris:20140802T210000
CATEGORIES:31
LOCATION:Ã  Toulouse
WEBSITE:http://www.conscienceducoeur.com
URL:http://www.conscienceducoeur.com
CONTACT:06 24 34 44 24
ORGANIZER;CN="Conscience du Coeur":https://epanews.fr/profile/Conscien
 ceduCoeur
ATTACH;FMTTYPE="image/jpeg":http://storage.ning.com/topology/rest/1.0/
 file/get/1663174565?profile=original
ATTENDEE;ROLE=REQ-PARTICIPANT;PARTSTAT=ACCEPTED;RSVP=TRUE;CN="Conscien
 ce du Coeur":https://epanews.fr/profile/ConscienceduCoeur
END:VEVENT
END:VCALENDAR
