BEGIN:VCALENDAR
PRODID:NingEventWidget-v1
VERSION:2.0
METHOD:PUBLISH
BEGIN:VTIMEZONE
TZID:Europe/Paris
X-LIC-LOCATION:Europe/Paris
BEGIN:DAYLIGHT
TZOFFSETFROM:+0100
TZOFFSETTO:+0200
TZNAME:CEST
DTSTART:19700329T020000
RRULE:FREQ=YEARLY;BYMONTH=3;BYDAY=-1SU
END:DAYLIGHT
BEGIN:STANDARD
TZOFFSETFROM:+0200
TZOFFSETTO:+0100
TZNAME:CET
DTSTART:19701025T030000
RRULE:FREQ=YEARLY;BYMONTH=10;BYDAY=-1SU
END:STANDARD
END:VTIMEZONE
BEGIN:VEVENT
UID:2485226:Event:1804565
DTSTAMP:20260422T082637Z
SUMMARY:Cercle de Tambour
DESCRIPTION:Le tambour est un magnifique compagnon de priÃ¨re et de mÃ
 ©ditation car il fait le lien entre les battements de notre coeur et l
 a pulsation du coeur de la Terre-MÃ¨re. Il nous permet de couper le me
 ntal pour vivre intensÃ©ment le lien qui nous unit Ã  l'ensemble de la
  Vie. C'est Ã©galement un vÃ©hicule qui nous transporte vers d'autres 
 niveaux de conscience.Â En frappant la peau et en s'abandonnant, nous 
 avons la possibilitÃ© de nous connecter aux secrets enfouis au plus pr
 ofond de nous.Â Un cercle de tambour permet d'amplifier le travail vib
 ratoire et Ã©nergÃ©tique. De plus, chacun dans le groupe est un miroir
  pour les autres et les temps d'Ã©changes sont alors de belles occasio
 ns d'enrichissement.\n\nPour plus d'information, aller sur https://epa
 news.fr/events/cercle-de-tambour
DTSTART;TZID=Europe/Paris:20140301T200000
DTEND;TZID=Europe/Paris:20140301T220000
CATEGORIES:35
LOCATION:Breagne
WEBSITE:http://free.moon.free.fr
URL:http://free.moon.free.fr
CONTACT:09 83 39 16 64
ORGANIZER;CN="Free Moon":https://epanews.fr/profile/1ggai5tma2xpm
ATTACH;FMTTYPE="image/jpeg":http://storage.ning.com/topology/rest/1.0/
 file/get/1663073913?profile=original
ATTENDEE;ROLE=REQ-PARTICIPANT;PARTSTAT=ACCEPTED;RSVP=TRUE;CN="Free Moo
 n":https://epanews.fr/profile/1ggai5tma2xpm
END:VEVENT
END:VCALENDAR
