BEGIN:VCALENDAR
PRODID:NingEventWidget-v1
VERSION:2.0
METHOD:PUBLISH
BEGIN:VTIMEZONE
TZID:Europe/Paris
X-LIC-LOCATION:Europe/Paris
BEGIN:DAYLIGHT
TZOFFSETFROM:+0100
TZOFFSETTO:+0200
TZNAME:CEST
DTSTART:19700329T020000
RRULE:FREQ=YEARLY;BYMONTH=3;BYDAY=-1SU
END:DAYLIGHT
BEGIN:STANDARD
TZOFFSETFROM:+0200
TZOFFSETTO:+0100
TZNAME:CET
DTSTART:19701025T030000
RRULE:FREQ=YEARLY;BYMONTH=10;BYDAY=-1SU
END:STANDARD
END:VTIMEZONE
BEGIN:VEVENT
UID:2485226:Event:2559103
DTSTAMP:20260421T162641Z
SUMMARY:Cercle de tambour
DESCRIPTION:Cercle de tambour, nous partageons cette vibration profond
 e de connexion à la Terre Mère et à notre propre coeur pour vivre l
 e lien en se détachant du sentiment d'intrusion.\nTranse, voyage, con
 nexion, libération d'émotions....\nCe moment de partage s'adresse au
 ssi aux personnes n'ayant pas de tambour, et souhaitant s'imprégner d
 e ce rythme envoûtant de vie.\nParticipation de 10 euros par personne
 .\nRéservation obligatoire, en effet, je souhaite que chacun puisse v
 ivre pleinement ce qui est, c'est pour cela que j'ai décidé d'ouvrir
  l'espace à 8/10 personnes maximum.\nCeci explique également, la pro
 position de deux dates par mois.\nCercle de tambour du 16/01 complet.\
 n\n\nPour plus d'information, aller sur https://epanews.fr/events/cerc
 le-de-tambour-2
DTSTART;TZID=Europe/Paris:20160123T143000
DTEND;TZID=Europe/Paris:20160123T170000
CATEGORIES:83
LOCATION:Sanary sur mer
WEBSITE:
URL:
CONTACT:0677886122
ORGANIZER;CN="DI SCALA Sylvie":https://epanews.fr/profile/DISCALASylvi
 e
ATTACH;FMTTYPE="image/jpeg":http://storage.ning.com/topology/rest/1.0/
 file/get/1663515915?profile=original
ATTENDEE;ROLE=REQ-PARTICIPANT;PARTSTAT=ACCEPTED;RSVP=TRUE;CN="DI SCALA
  Sylvie":https://epanews.fr/profile/DISCALASylvie
END:VEVENT
END:VCALENDAR
