BEGIN:VCALENDAR
PRODID:NingEventWidget-v1
VERSION:2.0
METHOD:PUBLISH
BEGIN:VTIMEZONE
TZID:Europe/Paris
X-LIC-LOCATION:Europe/Paris
BEGIN:DAYLIGHT
TZOFFSETFROM:+0100
TZOFFSETTO:+0200
TZNAME:CEST
DTSTART:19700329T020000
RRULE:FREQ=YEARLY;BYMONTH=3;BYDAY=-1SU
END:DAYLIGHT
BEGIN:STANDARD
TZOFFSETFROM:+0200
TZOFFSETTO:+0100
TZNAME:CET
DTSTART:19701025T030000
RRULE:FREQ=YEARLY;BYMONTH=10;BYDAY=-1SU
END:STANDARD
END:VTIMEZONE
BEGIN:VEVENT
UID:2485226:Event:2735393
DTSTAMP:20260423T001231Z
SUMMARY:Cercle de Reiki (soins ouvert Ã  tous)
DESCRIPTION:Florence Vastra et Corinne LEFEBVRE, maÃ®tres-enseignants 
 de Reiki,Â  nous avons choisi d'offrir de super mini-traitements aux p
 ersonnes prÃ©sentes dans le cadre du cercle de Reiki ouvert Ã  tous, n
 on-initiÃ©s et initiÃ©s.\nÂ \nCe cercle aura lieu le 8 novembre Ã  de 
 15h Ã  17h, au Loft Zen, 12 rue Gigodot, 69004 Lyon.\n\nPour rappel, l
 e Reiki est une mÃ©thode de traitement holistique et de soins Ã©nergÃ©
 tiques (elle concerne la guÃ©rison physique, mentale, Ã©motionnelle et
  spirituelle) dont l'origine nous vient du Japon et remonte au dÃ©but 
 du 20 Ã¨ siÃ¨cle.\nNotre objectif est Ã  la fois d'apporter un mieux-Ã
 ªtre aux participants et de faire dÃ©couvrir la pratique du Reiki.\n\n
 Comment cela se passera-t'il ?\nÂ \n\nNous nous asseyons tous en cercl
 e.\n\n\n\nNous vous expliquons ce qu'est le Reiki, puis faisons un pet
 it exercice de respiration guidÃ©e.\n\n\n\nEnsuite, nous ferons un soi
 n Ã  chacune et chacun.\n\n\n\nNous vous lirons et pourrons commenter 
 les 5 idÃ©aux du Reiki.\n\n\n\nVous pourrez nous faire part de vos res
 sentis.\n\n\n\nIl est nÃ©cessaire de nous tÃ©lÃ©phoner pour rÃ©server 
 votre place dans le cercle de Reiki :\nÂ \n\n06 09 90 40 45\nÂ \n\nPou
 r ce cercle de Reiki, l'Ã©change d'Ã©nergie se fera sur la base dâ€™un
 e participation financiÃ¨re libre et consciente, c'est Ã  dire \"au ch
 apeau\".\nÂ Nos sites : Florence VastraÂ etÂ Corinne LEFEBVRE\n\nAu pl
 aisir de partager,Â \nÂ \nÂ \nCorinne LEFEBVRE\n\nPour plus d'informat
 ion, aller sur https://epanews.fr/events/cercle-de-reiki-soins-ouvert-
 tous
DTSTART;TZID=Europe/Paris:20161108T150000
DTEND;TZID=Europe/Paris:20161108T170000
CATEGORIES:69
LOCATION:Loft Zen
WEBSITE:http://www.clefdubienetre.fr
URL:http://www.clefdubienetre.fr
CONTACT:0609904045
ORGANIZER;CN=Maginaturelle:https://epanews.fr/profile/Maginaturelle
ATTACH;FMTTYPE="image/jpeg":
ATTENDEE;ROLE=REQ-PARTICIPANT;PARTSTAT=ACCEPTED;RSVP=TRUE;CN=Maginatur
 elle:https://epanews.fr/profile/Maginaturelle
END:VEVENT
END:VCALENDAR
