BEGIN:VCALENDAR
PRODID:NingEventWidget-v1
VERSION:2.0
METHOD:PUBLISH
BEGIN:VTIMEZONE
TZID:Europe/Paris
X-LIC-LOCATION:Europe/Paris
BEGIN:DAYLIGHT
TZOFFSETFROM:+0100
TZOFFSETTO:+0200
TZNAME:CEST
DTSTART:19700329T020000
RRULE:FREQ=YEARLY;BYMONTH=3;BYDAY=-1SU
END:DAYLIGHT
BEGIN:STANDARD
TZOFFSETFROM:+0200
TZOFFSETTO:+0100
TZNAME:CET
DTSTART:19701025T030000
RRULE:FREQ=YEARLY;BYMONTH=10;BYDAY=-1SU
END:STANDARD
END:VTIMEZONE
BEGIN:VEVENT
UID:2485226:Event:2936723
DTSTAMP:20260421T204130Z
SUMMARY:Cercle de pratiques chamaniques samedi 31 mars 2018
DESCRIPTION:\nBonjour à toustes,\n\n\n\n \n \nLe prochain cercle au
 ra lieu le samedi 31 mars 2018 de 14h30 à 18h00 (environ) à mon domi
 cile 25 rue du centre 91630 Marolles en Hurepoix\n \nComme prévu cet
 te année je vous propose de rentrer dans la pratique du tambour et de
  la transe pour mettre en oeuvre ce que nous avons pratiqué jusqu'à 
 présent : les notions de base comme le voyage chamanique, le dévelop
 pement du ressenti et des perceptions...\n \nJe me pose donc moins en
  \"enseignante\" et plus en accompagnatrice cette année.\n \nNous au
 rons un temps de pratique et un temps d'échange. \n \nIl n'est pas 
 nécessaire d'être déjà aguerri à toutes ces pratiques, le groupe 
 porte et nous avons déjà cette connaissance à l'intérieur de nous,
  il suffit de  la développer. Donc si vous vous sentez appelé(e),ve
 nez ! \n\nVous pouvez aussi en parler autour de vous si vous sentez q
 ue des personnes sont en recherche de ces pratiques.\n  \nPrévoyez 
 un coussin, une couverture et des vêtements confortables ainsi que vo
 tre tambour ou autre instrument (hochet...)\n \nPAF : 50€\n \nMerc
 i de me prévenir de votre présence au 06 75 61 68 86 ou par mail gai
 anata.gaianata@gmail.com.\n \nGaianata\n\nPour plus d'information, al
 ler sur https://epanews.fr/events/cercle-de-pratiques-chamaniques-same
 di-31-mars-2018
DTSTART;TZID=Europe/Paris:20180331T143000
DTEND;TZID=Europe/Paris:20180331T180000
CATEGORIES:91
LOCATION:cabinet
WEBSITE:
URL:
CONTACT:06 75 61 68 86
ORGANIZER;CN=gaianata:https://epanews.fr/profile/pachagaia
ATTACH;FMTTYPE="image/jpeg":http://storage.ning.com/topology/rest/1.0/
 file/get/1663725216?profile=original
ATTENDEE;ROLE=REQ-PARTICIPANT;PARTSTAT=ACCEPTED;RSVP=TRUE;CN=gaianata:
 https://epanews.fr/profile/pachagaia
END:VEVENT
END:VCALENDAR
