BEGIN:VCALENDAR
PRODID:NingEventWidget-v1
VERSION:2.0
METHOD:PUBLISH
BEGIN:VTIMEZONE
TZID:Europe/Paris
X-LIC-LOCATION:Europe/Paris
BEGIN:DAYLIGHT
TZOFFSETFROM:+0100
TZOFFSETTO:+0200
TZNAME:CEST
DTSTART:19700329T020000
RRULE:FREQ=YEARLY;BYMONTH=3;BYDAY=-1SU
END:DAYLIGHT
BEGIN:STANDARD
TZOFFSETFROM:+0200
TZOFFSETTO:+0100
TZNAME:CET
DTSTART:19701025T030000
RRULE:FREQ=YEARLY;BYMONTH=10;BYDAY=-1SU
END:STANDARD
END:VTIMEZONE
BEGIN:VEVENT
UID:2485226:Event:1852698
DTSTAMP:20260421T172634Z
SUMMARY:Cercle de Paroles de Femmes
DESCRIPTION:Un temps pour moi, un partage dâ€™expÃ©rience, oÃ¹ je trou
 ve Ã©coute, soutien, respect et bienveillance. Pour partager mes bonhe
 urs, oser dÃ©poser mes blessures, mes rages et mes frustrationsâ€¦ Pou
 r parler de tout ce qui me touche ou simplement Ã©couter. Pour me libÃ
 ©rer, accepter le changement et mieux vivre ma vie de femme. Pour vivr
 e la joie d'Ãªtre ensemble, dans la vÃ©ritÃ© de l'Ãªtre, en toute simp
 licitÃ© et authenticitÃ©.\nÂ Ensemble, aller Ã  la rencontre de soi, a
 ccueillir lâ€™autreâ€¦\nÂ \nRejoignez-moi mercredi 14 mai\nde 19h30 Ã 
  21h Ã  CrÃ©hen (22)\nParticipationÂ : 8 â‚¬ (tarif adaptÃ© si besoin)
 \nCercle mensuel ouvert Ã  toutes les femmes\n\nPour plus d'informatio
 n, aller sur https://epanews.fr/events/cercle-de-paroles-de-femmes
DTSTART;TZID=Europe/Paris:20140514T193000
DTEND;TZID=Europe/Paris:20140514T210000
CATEGORIES:22
LOCATION:CrÃ©hen (22)
WEBSITE:http://www.energie-coeur.jimdo.com
URL:http://www.energie-coeur.jimdo.com
CONTACT:06 87 83 62 84
ORGANIZER:ASSOCIATION ENERGIE COEUR
ATTACH;FMTTYPE="image/jpeg":http://storage.ning.com/topology/rest/1.0/
 file/get/1663098207?profile=original
ATTENDEE;ROLE=REQ-PARTICIPANT;PARTSTAT=ACCEPTED;RSVP=TRUE;CN="ENERGIE 
 COEUR":https://epanews.fr/profile/ENERGIECOEUR
END:VEVENT
END:VCALENDAR
