BEGIN:VCALENDAR
PRODID:NingEventWidget-v1
VERSION:2.0
METHOD:PUBLISH
BEGIN:VTIMEZONE
TZID:Europe/Paris
X-LIC-LOCATION:Europe/Paris
BEGIN:DAYLIGHT
TZOFFSETFROM:+0100
TZOFFSETTO:+0200
TZNAME:CEST
DTSTART:19700329T020000
RRULE:FREQ=YEARLY;BYMONTH=3;BYDAY=-1SU
END:DAYLIGHT
BEGIN:STANDARD
TZOFFSETFROM:+0200
TZOFFSETTO:+0100
TZNAME:CET
DTSTART:19701025T030000
RRULE:FREQ=YEARLY;BYMONTH=10;BYDAY=-1SU
END:STANDARD
END:VTIMEZONE
BEGIN:VEVENT
UID:2485226:Event:2900237
DTSTAMP:20260421T070108Z
SUMMARY:Cercle de Pardon à Nantes
DESCRIPTION:Un Cercle de Pardon est un rituel de groupe aussi simple q
 ue puissant, qui peut vous permettre de libérer et transformer les é
 motions négatives (jalousie, rancoeur, ressentiment, colère, haine..
 .) qui vous encombrent et vous empêchent de vivre pleinement votre pr
 ésent. Dans la joie de vous y accueillir !  Participation aux frais :
  20 €  J'ai à coeur que mes Cercles de Pardon soient accessibles à
  tous. Si ce montant est susceptible de déséquilibrer votre budget, 
 vous pouvez donner une participation de 10 €.  Inscription obligatoi
 re : presence.vie@gmail.com L'adresse vous sera envoyée après inscri
 ption.  Toutes informations complémentaires : 0623593008 Ou www.sophi
 ezakowetz.com\n\nPour plus d'information, aller sur https://epanews.fr
 /events/cercle-de-pardon-nantes
DTSTART;TZID=Europe/Paris:20171121T190000
DTEND;TZID=Europe/Paris:20171121T220000
CATEGORIES:44
LOCATION:Nantes - Basse Goulaine
WEBSITE:
URL:
CONTACT:0623593008
ORGANIZER;CN=Sophie:https://epanews.fr/profile/Sophie7
ATTACH;FMTTYPE="image/jpeg":http://storage.ning.com/topology/rest/1.0/
 file/get/1663701285?profile=original
ATTENDEE;ROLE=REQ-PARTICIPANT;PARTSTAT=ACCEPTED;RSVP=TRUE;CN=Sophie:ht
 tps://epanews.fr/profile/Sophie7
END:VEVENT
END:VCALENDAR
