BEGIN:VCALENDAR
PRODID:NingEventWidget-v1
VERSION:2.0
METHOD:PUBLISH
BEGIN:VTIMEZONE
TZID:Europe/Paris
X-LIC-LOCATION:Europe/Paris
BEGIN:DAYLIGHT
TZOFFSETFROM:+0100
TZOFFSETTO:+0200
TZNAME:CEST
DTSTART:19700329T020000
RRULE:FREQ=YEARLY;BYMONTH=3;BYDAY=-1SU
END:DAYLIGHT
BEGIN:STANDARD
TZOFFSETFROM:+0200
TZOFFSETTO:+0100
TZNAME:CET
DTSTART:19701025T030000
RRULE:FREQ=YEARLY;BYMONTH=10;BYDAY=-1SU
END:STANDARD
END:VTIMEZONE
BEGIN:VEVENT
UID:2485226:Event:2314685
DTSTAMP:20260423T080442Z
SUMMARY:Cercle de Pardon
DESCRIPTION:AnimÃ© par ValÃ©rie Allemand  Un Cercle de Pardon peut vou
 s aider Ã  vous libÃ©rer du fardeau de ressentiment, de rancune ou de 
 haine qui empÃªchent votre cÅ“ur dâ€™aimer pleinement. Et notamment, s
 uite aux Ã©vÃ©nements de ce dÃ©but dâ€™annÃ©e, une thÃ©matique particu
 liÃ¨re appelÃ©e VAGUE DU PARDON Ã  vocation de nettoyage collectif, vo
 us est proposÃ©e (Sigle Â« VdP Â»).  LancÃ©s en dÃ©cembre 2012 par Oli
 vier Clerc, les Cercles de Pardon ont pour objectif de permettre Ã  to
 us ceux et celles qui le dÃ©sirent de vivre en deux-trois heures un tr
 Ã¨s beau rituel de GuÃ©rison du cÅ“ur, aussi simple que puissant.  Exi
 stant dÃ©jÃ  dans plus dâ€™une cinquantaine de villes franÃ§aises (y c
 ompris PolynÃ©sie, Guyane et Antilles), ainsi quâ€™en Belgique et en S
 uisse, ils se dÃ©veloppent trÃ¨s vite ! Mon premier Cercle fut proposÃ
 © Ã  Aix en mars 2014 et jâ€™en anime depuis mensuellement et en alter
 nance sur la RÃ©gion PACA (13 â€“ 83 â€“ 06).     Participation aux fr
 ais : 15â‚¬  Merci de rÃ©server : ValÃ©rie Allemand - par mail : valri
 e.allemand@gmail.com - par tÃ©l : 06.31.83.80.58 (en mentionnant vos N
 om, PrÃ©nom, adresse, TÃ©l et e-mail)  Retrouvez-nous aussi sur Facebo
 ok : https://www.facebook.com/cerclesdepardon Pour connaÃ®tre les autr
 es Dates et Lieux : https://www.cerclesdepardon.fr/\n\nPour plus d'inf
 ormation, aller sur https://epanews.fr/events/cercle-de-pardon-2
DTSTART;TZID=Europe/Paris:20150526T143000
DTEND;TZID=Europe/Paris:20150526T153000
CATEGORIES:83
LOCATION:Le Liber'ThÃ©
WEBSITE:https://www.facebook.com/LeLiberThe/events?ref=page_internal
URL:https://www.facebook.com/LeLiberThe/events?ref=page_internal
CONTACT:0695500225
ORGANIZER:Le Liber'ThÃ©
ATTACH;FMTTYPE="image/jpeg":http://storage.ning.com/topology/rest/1.0/
 file/get/1663390248?profile=original
ATTENDEE;ROLE=REQ-PARTICIPANT;PARTSTAT=ACCEPTED;RSVP=TRUE;CN="Alliance
  Art' & Bien-Ãªtre":https://epanews.fr/profile/AllianceArtBienetre
END:VEVENT
END:VCALENDAR
