BEGIN:VCALENDAR
PRODID:NingEventWidget-v1
VERSION:2.0
METHOD:PUBLISH
BEGIN:VTIMEZONE
TZID:Europe/Paris
X-LIC-LOCATION:Europe/Paris
BEGIN:DAYLIGHT
TZOFFSETFROM:+0100
TZOFFSETTO:+0200
TZNAME:CEST
DTSTART:19700329T020000
RRULE:FREQ=YEARLY;BYMONTH=3;BYDAY=-1SU
END:DAYLIGHT
BEGIN:STANDARD
TZOFFSETFROM:+0200
TZOFFSETTO:+0100
TZNAME:CET
DTSTART:19701025T030000
RRULE:FREQ=YEARLY;BYMONTH=10;BYDAY=-1SU
END:STANDARD
END:VTIMEZONE
BEGIN:VEVENT
UID:2485226:Event:1674294
DTSTAMP:20260421T182225Z
SUMMARY:Cercle de mÃ©ditation Ã  Libourne pour le Solstice d'Hiver
DESCRIPTION:Bonjour,\nCrÃ©erÂ un cercle ouvert Ã Â tousÂ d'initiation 
 et de pratique de laÂ mÃ©ditationÂ Ã  Libourne.\nL'idÃ©e Ã©tait dans l
 'airÂ depuis quelques temps, vous avez prÃ©parÃ© laÂ terreÂ par vos de
 mandes et vos questions.Â \nEn nous installant dans l'instant prÃ©sent
  par laÂ pleine prÃ©sence, nous allons pouvoirÂ cultiverÂ la paix, la 
 sÃ©rÃ©nitÃ© et le goÃ»t du bonheur.\nIl y aura des espaces-temps pourÂ
  mÃ©diterÂ et d'autres pourÂ Ã©changer.\nProfitons de ceÂ 21Â dÃ©cembr
 e, au cÅ“ur duÂ solstice d'hiver,Â le jour le plus court de l'annÃ©e m
 ais oÃ¹ commence la progression de laÂ lumiÃ¨reÂ (jusqu'au 21 juin), p
 our dÃ©buter notre cercle de mÃ©ditationÂ Vital Flux.\nC'est une date 
 idÃ©ale pourÂ commencerÂ une pratique,Â allumerÂ une lumiÃ¨re intÃ©rie
 ure,Â mettre en marcheÂ une nouvelle habitude etÂ crÃ©erÂ un nouveau c
 hemin neuronal.Â \nNous prÃ©parerons le corps, le mental etÂ nous nous
  assiÃ©rons.Â \nPour cela, prÃ©voyez soit un tapis et un coussin (plut
 Ã´t ferme et Ã©pais), soit (pour ceux qui prÃ©fÃ¨rent) une chaise, un 
 tabouret ou tout autre siÃ¨ge.\nPortez Ã©galement des chaussettes et d
 e quoi vous couvrir les Ã©paules.\nLa sÃ©ance est prÃ©vue le 21/12 Ã Â
  14h41Â ;-)\nSa durÃ©e sera environ d'une heure Ã  une heure trente.\n
 Merci d'Ãªtre prÃªt(e) sur place pourÂ 14h30.\nLa participation demand
 Ã©e est de 10 â‚¬ avec la possibilitÃ© d'inviter gratuitement une pers
 onne de votre choix.\nCette mÃ©ditation est sous l'aile de l'A.M.M.E. 
 (AssociationÂ MÃ©diationÂ MieuxÂ Etre) qui soutiendra les personnes ou
  autres associations dÃ©sirant participer.\nSi besoin, vous pouvez pay
 er Ã  votre convenance ou simplement donner ce que bien vous semblera.
 \nDans l'attente de vous lire ou de vous entendreÂ pour vous inscrire,
  je vous souhaite belle et pleine prÃ©sence Ã  l'instant et au flux vi
 tal.\nDidier MichaudMÃ©diateur bien-Ãªtre06 82 85 79 62www.zenithude.n
 et\n\nÂ \n\nPour vous faire patienter jusqu'auÂ 21 dÃ©cembreÂ voici qu
 elquesÂ citationsÂ choisies :\n\n\"Mieux vaut allumer une bougie que m
 audire les tÃ©nÃ¨bres\"Â Lao Tseu\n\"Qui regarde dehors rÃªve et qui r
 egarde Ã  l'intÃ©rieur se rÃ©veille\"Â Carl Jung\n\"J'ai dÃ©cidÃ© d'Ãª
 tre heureux parce que c'est bon pour la santÃ©\"Â Voltaire\n\"Il n'y a
  pas de hasard, il n'y a que des rendez-vous\"Â Paul Eluard\nÂ \n\n\n\
 nPour plus d'information, aller sur https://epanews.fr/events/cercle-d
 e-m-ditation-libourne-pour-le-solstice-d-hiver
DTSTART;TZID=Europe/Paris:20131221T143000
DTEND;TZID=Europe/Paris:20131221T160000
CATEGORIES:33
LOCATION:Libourne
WEBSITE:
URL:
CONTACT:
ORGANIZER;CN=Zenithude:https://epanews.fr/profile/Zenithude
ATTACH;FMTTYPE="image/jpeg":http://storage.ning.com/topology/rest/1.0/
 file/get/1662992414?profile=original
ATTENDEE;ROLE=REQ-PARTICIPANT;PARTSTAT=ACCEPTED;RSVP=TRUE;CN=Zenithude
 :https://epanews.fr/profile/Zenithude
END:VEVENT
END:VCALENDAR
