BEGIN:VCALENDAR
PRODID:NingEventWidget-v1
VERSION:2.0
METHOD:PUBLISH
BEGIN:VTIMEZONE
TZID:Europe/Paris
X-LIC-LOCATION:Europe/Paris
BEGIN:DAYLIGHT
TZOFFSETFROM:+0100
TZOFFSETTO:+0200
TZNAME:CEST
DTSTART:19700329T020000
RRULE:FREQ=YEARLY;BYMONTH=3;BYDAY=-1SU
END:DAYLIGHT
BEGIN:STANDARD
TZOFFSETFROM:+0200
TZOFFSETTO:+0100
TZNAME:CET
DTSTART:19701025T030000
RRULE:FREQ=YEARLY;BYMONTH=10;BYDAY=-1SU
END:STANDARD
END:VTIMEZONE
BEGIN:VEVENT
UID:2485226:Event:988032
DTSTAMP:20260419T183123Z
SUMMARY:cercle de guérison pour les femmes à Nimes le 19 novembre
DESCRIPTION:   Venez nous , me rejoindre  le lundi 19 novembre  pou
 r un cercle de guérison  chamanique de femmes  un temps de bienveil
 lance et de partage\n\nPour plus d'information, aller sur https://epan
 ews.fr/events/cercle-de-gu-rison-pour-les-femmes-nimes-le-1-novembre
DTSTART;TZID=Europe/Paris:20121119T200000
DTEND;TZID=Europe/Paris:20121119T230000
CATEGORIES:30
LOCATION:Nimes
WEBSITE:http://lechantdesarbres.over-blog.com/
URL:http://lechantdesarbres.over-blog.com/
CONTACT:06 20 34 54 99
ORGANIZER;CN=Yaël:https://epanews.fr/profile/yael
ATTACH;FMTTYPE="image/jpeg":http://storage.ning.com/topology/rest/1.0/
 file/get/1662685831?profile=original
ATTENDEE;ROLE=REQ-PARTICIPANT;PARTSTAT=ACCEPTED;RSVP=TRUE;CN=Yaël:htt
 ps://epanews.fr/profile/yael
END:VEVENT
END:VCALENDAR
