BEGIN:VCALENDAR
PRODID:NingEventWidget-v1
VERSION:2.0
METHOD:PUBLISH
BEGIN:VTIMEZONE
TZID:Europe/Paris
X-LIC-LOCATION:Europe/Paris
BEGIN:DAYLIGHT
TZOFFSETFROM:+0100
TZOFFSETTO:+0200
TZNAME:CEST
DTSTART:19700329T020000
RRULE:FREQ=YEARLY;BYMONTH=3;BYDAY=-1SU
END:DAYLIGHT
BEGIN:STANDARD
TZOFFSETFROM:+0200
TZOFFSETTO:+0100
TZNAME:CET
DTSTART:19701025T030000
RRULE:FREQ=YEARLY;BYMONTH=10;BYDAY=-1SU
END:STANDARD
END:VTIMEZONE
BEGIN:VEVENT
UID:2485226:Event:967846
DTSTAMP:20260423T174032Z
SUMMARY:Cercle de Guérison
DESCRIPTION:CERCLE DE GUERISON\nde 9H30 à 17H30\nCet atelier vous inv
 ite à vous ressourcer, nettoyer en profondeur vos corps subtils pour 
 vous donner la possibilité de libérer vos blessures, traumatismes e
 t blocages.\nObjectif de l'atelier :\nNettoyage des noeuds émotionnel
 s, blessures liées à toutes formes de violences\nDélier les liens k
 armiques, les réminiscences des vies antérieures\nRetrouver le conta
 ct avec son enfant intérieur pour vous ouvrir à la joie de vivre\nTa
 rif : 80 euros la journée\nInformations complémentaires sur le site 
 : http://www.horizonslumineux.fr\n \n\nPour plus d'information, aller
  sur https://epanews.fr/events/cercle-de-gu-rison-1
DTSTART;TZID=Europe/Paris:20121124T093000
DTEND;TZID=Europe/Paris:20121124T173000
CATEGORIES:10170
LOCATION:Méry sur Seine
WEBSITE:http://www.horizonslumineux.fr
URL:http://www.horizonslumineux.fr
CONTACT:
ORGANIZER;CN=elea:https://epanews.fr/profile/elea
ATTACH;FMTTYPE="image/jpeg":http://storage.ning.com/topology/rest/1.0/
 file/get/1662678958?profile=original
ATTENDEE;ROLE=REQ-PARTICIPANT;PARTSTAT=ACCEPTED;RSVP=TRUE;CN=elea:http
 s://epanews.fr/profile/elea
END:VEVENT
END:VCALENDAR
