BEGIN:VCALENDAR
PRODID:NingEventWidget-v1
VERSION:2.0
METHOD:PUBLISH
BEGIN:VTIMEZONE
TZID:Europe/Paris
X-LIC-LOCATION:Europe/Paris
BEGIN:DAYLIGHT
TZOFFSETFROM:+0100
TZOFFSETTO:+0200
TZNAME:CEST
DTSTART:19700329T020000
RRULE:FREQ=YEARLY;BYMONTH=3;BYDAY=-1SU
END:DAYLIGHT
BEGIN:STANDARD
TZOFFSETFROM:+0200
TZOFFSETTO:+0100
TZNAME:CET
DTSTART:19701025T030000
RRULE:FREQ=YEARLY;BYMONTH=10;BYDAY=-1SU
END:STANDARD
END:VTIMEZONE
BEGIN:VEVENT
UID:2485226:Event:541686
DTSTAMP:20260423T115753Z
SUMMARY:Cercle de Femmes
DESCRIPTION:Si le coeur vous en dit...Venez participer à un cercle de
  Femmes en pleine nature aux Sainte Marie de la Mer....voir site \"cer
 cle de femmes\" sur google...retrouver la Femmes sauvage en Soi, douce
  et forte à la foi...Être dans la beauté de ces derniers jours d'é
 té indien, entre nous, afin de rassembler notre puissance créatrice,
  et aller vers les changements qui nous attendent, entrer dans la sais
 on d'hiver, pour mieux y puiser nos talents...\n\nPour plus d'informat
 ion, aller sur https://epanews.fr/events/cercle-de-femmes-4
DTSTART;TZID=Europe/Paris:20111001T000000
DTEND;TZID=Europe/Paris:20111002T235900
CATEGORIES:"13\""
LOCATION:Sainte Marie de la mer
WEBSITE:http://cercel de femmes
URL:http://cercel de femmes
CONTACT:
ORGANIZER:CERCLE de femmes
ATTACH;FMTTYPE="image/jpeg":
ATTENDEE;ROLE=REQ-PARTICIPANT;PARTSTAT=ACCEPTED;RSVP=TRUE;CN="Yolange 
 Bornet":https://epanews.fr/profile/YolangeBornet
END:VEVENT
END:VCALENDAR
