BEGIN:VCALENDAR
PRODID:NingEventWidget-v1
VERSION:2.0
METHOD:PUBLISH
BEGIN:VTIMEZONE
TZID:Europe/Paris
X-LIC-LOCATION:Europe/Paris
BEGIN:DAYLIGHT
TZOFFSETFROM:+0100
TZOFFSETTO:+0200
TZNAME:CEST
DTSTART:19700329T020000
RRULE:FREQ=YEARLY;BYMONTH=3;BYDAY=-1SU
END:DAYLIGHT
BEGIN:STANDARD
TZOFFSETFROM:+0200
TZOFFSETTO:+0100
TZNAME:CET
DTSTART:19701025T030000
RRULE:FREQ=YEARLY;BYMONTH=10;BYDAY=-1SU
END:STANDARD
END:VTIMEZONE
BEGIN:VEVENT
UID:2485226:Event:1346611
DTSTAMP:20260423T054517Z
SUMMARY:cercle de femmes
DESCRIPTION:Je vous propose de nous retrouver  pour un Cercle de Fem
 mes ayant lieu de 20h30 à 22h30\navec la simplicité de celles qui se
  sentent  portées par l'envie d'unir leur amour pour contribuer à l
 'Emergence d'un  monde\nplus empreint de sérénité et de  Paix.\nC
 hacune pourra partager, échanger,  offrir au groupe dans le plaisir 
 et la force de nos cœurs et ventres de femmes\nau service de la Terre
 -Mère puis  ,nous finirons par une méditation que je pourrais mener
 ,\ncelles qui le désirent pourront  prendre le relais.\nLibre partic
 ipation pour  frais de la salle (entretien, prépa, bois..)\nAu plais
 ir de vous  retrouver,\nDans la sororité,\nNadine-Sarah PENNA\nMédi
 umnité Humaniste  Transpersonnelle® Puissance du Verbe Inspiré\nSo
 ins Vibratoires des Onctions -Féminin et Masculin  Sacrés\n\n\nPour
  plus d'information, aller sur https://epanews.fr/events/cercle-de-fem
 mes-27
DTSTART;TZID=Europe/Paris:20130515T203000
DTEND;TZID=Europe/Paris:20130515T223000
CATEGORIES:83
LOCATION:Salle\" La Pépinière\"
WEBSITE:
URL:
CONTACT:Claire PENNA  au 06 14 25 83 79 ou claire.penna@dbmail.com
ORGANIZER;CN="Franck et Nadine Sarah Aubert":https://epanews.fr/profil
 e/FranckAUBERT
ATTACH;FMTTYPE="image/jpeg":http://storage.ning.com/topology/rest/1.0/
 file/get/1662828784?profile=original
ATTENDEE;ROLE=REQ-PARTICIPANT;PARTSTAT=ACCEPTED;RSVP=TRUE;CN="Franck e
 t Nadine Sarah Aubert":https://epanews.fr/profile/FranckAUBERT
END:VEVENT
END:VCALENDAR
