BEGIN:VCALENDAR
PRODID:NingEventWidget-v1
VERSION:2.0
METHOD:PUBLISH
BEGIN:VTIMEZONE
TZID:Europe/Paris
X-LIC-LOCATION:Europe/Paris
BEGIN:DAYLIGHT
TZOFFSETFROM:+0100
TZOFFSETTO:+0200
TZNAME:CEST
DTSTART:19700329T020000
RRULE:FREQ=YEARLY;BYMONTH=3;BYDAY=-1SU
END:DAYLIGHT
BEGIN:STANDARD
TZOFFSETFROM:+0200
TZOFFSETTO:+0100
TZNAME:CET
DTSTART:19701025T030000
RRULE:FREQ=YEARLY;BYMONTH=10;BYDAY=-1SU
END:STANDARD
END:VTIMEZONE
BEGIN:VEVENT
UID:2485226:Event:1046130
DTSTAMP:20260423T022112Z
SUMMARY:Cercle de Femmes
DESCRIPTION:Je nous invite Ã  reprendre notre place dans notre ronde d
 es dÃ©esses, un cercle de femmes sous forme d'atelier pour apprendre Ã
   Ã©couter son intuition et avoir confiance en ses prÃ©monitions et le
 s prÃ©sages que nous voyons.\nLes femmes ont souvent des conflits avec
  leur voix intÃ©rieur et mettent de cÃ´tÃ© les messages qu'elles reÃ§o
 ivent par manque de confiance en elles. Pourtant les grandes devineres
 ses de l'histoire Ã©taient des femmes (la Kahina, la Pythie de Delphes
  ...), en tant que vase receptacle des informations divines qu'elles p
 artageaient avec la communautÃ©.\nCe cercle aura lieu, exceptionnellem
 ent en aprÃ¨s-midi et sous forme d'atelier. Dans un premier temps, nou
 s irons explorer les messages de nos Ã¢mes Ã  travers les rÃªves (qu'i
 ls soient symboliques ou prÃ©monitoires) pour apprendre Ã  dÃ©crypter 
 cette voie royale de communication avec notre inconscient.\nDans une d
 euxiÃ¨me partie, nous nous amuserons avec les symboles des tarots et d
 es jeux de cartes (plusieurs jeux seront Ã  notre disposition: tarots 
 des animaux totem; l'oracle Cristal; les cartes des maÃ®tres ascension
 nÃ©s et l'oracle Demandez Ã  vos guides). Pour celles qui souhaitent a
 pporter leur jeux, c'est possible!\nJe vous donne RDV le Samedi 1er DÃ
 ©cembre Ã  13h30 Ã  Paris et terminera Ã  17h30. La participation est 
 de 30 euros.\n\nPour plus d'information, aller sur https://epanews.fr/
 events/cercle-de-femmes-22
DTSTART;TZID=Europe/Paris:20121201T133000
DTEND;TZID=Europe/Paris:20121201T173000
CATEGORIES:75
LOCATION:Paris
WEBSITE:
URL:
CONTACT:
ORGANIZER;CN=Katia:https://epanews.fr/profile/Katia
ATTACH;FMTTYPE="image/jpeg":http://storage.ning.com/topology/rest/1.0/
 file/get/1662706755?profile=original
ATTENDEE;ROLE=REQ-PARTICIPANT;PARTSTAT=ACCEPTED;RSVP=TRUE;CN=Katia:htt
 ps://epanews.fr/profile/Katia
END:VEVENT
END:VCALENDAR
