BEGIN:VCALENDAR
PRODID:NingEventWidget-v1
VERSION:2.0
METHOD:PUBLISH
BEGIN:VTIMEZONE
TZID:Europe/Paris
X-LIC-LOCATION:Europe/Paris
BEGIN:DAYLIGHT
TZOFFSETFROM:+0100
TZOFFSETTO:+0200
TZNAME:CEST
DTSTART:19700329T020000
RRULE:FREQ=YEARLY;BYMONTH=3;BYDAY=-1SU
END:DAYLIGHT
BEGIN:STANDARD
TZOFFSETFROM:+0200
TZOFFSETTO:+0100
TZNAME:CET
DTSTART:19701025T030000
RRULE:FREQ=YEARLY;BYMONTH=10;BYDAY=-1SU
END:STANDARD
END:VTIMEZONE
BEGIN:VEVENT
UID:2485226:Event:896172
DTSTAMP:20260422T004501Z
SUMMARY:cercle de femmes
DESCRIPTION:Venez nous rejoindre\n \ndu vendredi 24 Aout 18h au diman
 che 26 Aout 2012 \ndans “cercle de femmes”, pour retrouver, sacra
 liser et partager la Femme et sa féminité....\n \n \nRencontre de 
 femmes, rencontre de femmes à femmes, rencontre pour femmes ou femmes
  en devenir....\n \nPuissions nous être des sœurs, des alliées, de
 s miroirs les unes les autres, créer dans notre beauté et notre humi
 lité de femme, intégrer et manifester au quotidien la Grande Déesse
  en nous...\n \nInstants magnifiques de guérison, de partage et d’
 union avec sa féminité, son identité de femmes, et la sororité. Ce
 rcle de femmes est un moment pour soi, sa yoni, ses lunes, les transmi
 ssions du féminin et la guérison de notre féminitude.\n \nApproche
  tantrique, transpersonnelle et énergétique....Partage, rituels, pra
 tiques corporels énergétiques, technique de libérations énergétiq
 ues et émotionnelles nous accompagneront.\n \n \nCoût 175€ le wk
  à Saint-Claude dans le Jura en Résidentiel.\n\nPour plus d'informat
 ion, aller sur https://epanews.fr/events/cercle-de-femmes-11
DTSTART;TZID=Europe/Paris:20120824T180000
DTEND;TZID=Europe/Paris:20120826T170000
CATEGORIES:jura
LOCATION:saint claude
WEBSITE:http://www.emma-grillet.fr
URL:http://www.emma-grillet.fr
CONTACT:06.73.86.03.69
ORGANIZER;CN=emmagrillet:https://epanews.fr/profile/emmagrillet
ATTACH;FMTTYPE="image/jpeg":http://storage.ning.com/topology/rest/1.0/
 file/get/1662640449?profile=original
ATTENDEE;ROLE=REQ-PARTICIPANT;PARTSTAT=ACCEPTED;RSVP=TRUE;CN=emmagrill
 et:https://epanews.fr/profile/emmagrillet
END:VEVENT
END:VCALENDAR
