BEGIN:VCALENDAR
PRODID:NingEventWidget-v1
VERSION:2.0
METHOD:PUBLISH
BEGIN:VTIMEZONE
TZID:Europe/Paris
X-LIC-LOCATION:Europe/Paris
BEGIN:DAYLIGHT
TZOFFSETFROM:+0100
TZOFFSETTO:+0200
TZNAME:CEST
DTSTART:19700329T020000
RRULE:FREQ=YEARLY;BYMONTH=3;BYDAY=-1SU
END:DAYLIGHT
BEGIN:STANDARD
TZOFFSETFROM:+0200
TZOFFSETTO:+0100
TZNAME:CET
DTSTART:19701025T030000
RRULE:FREQ=YEARLY;BYMONTH=10;BYDAY=-1SU
END:STANDARD
END:VTIMEZONE
BEGIN:VEVENT
UID:2485226:Event:2192782
DTSTAMP:20260426T020838Z
SUMMARY:cercle de femme
DESCRIPTION:\n\nPour plus d'information, aller sur https://epanews.fr/
 events/cercle-de-femme
DTSTART;TZID=Europe/Paris:20150213T000000
DTEND;TZID=Europe/Paris:20150213T235900
CATEGORIES:83, 13
LOCATION:toulon
WEBSITE:
URL:
CONTACT:0671472843
ORGANIZER;CN=mag83:https://epanews.fr/profile/mag83
ATTACH;FMTTYPE="image/jpeg":
ATTENDEE;ROLE=REQ-PARTICIPANT;PARTSTAT=ACCEPTED;RSVP=TRUE;CN=mag83:htt
 ps://epanews.fr/profile/mag83
END:VEVENT
END:VCALENDAR
