BEGIN:VCALENDAR
PRODID:NingEventWidget-v1
VERSION:2.0
METHOD:PUBLISH
BEGIN:VTIMEZONE
TZID:Europe/Paris
X-LIC-LOCATION:Europe/Paris
BEGIN:DAYLIGHT
TZOFFSETFROM:+0100
TZOFFSETTO:+0200
TZNAME:CEST
DTSTART:19700329T020000
RRULE:FREQ=YEARLY;BYMONTH=3;BYDAY=-1SU
END:DAYLIGHT
BEGIN:STANDARD
TZOFFSETFROM:+0200
TZOFFSETTO:+0100
TZNAME:CET
DTSTART:19701025T030000
RRULE:FREQ=YEARLY;BYMONTH=10;BYDAY=-1SU
END:STANDARD
END:VTIMEZONE
BEGIN:VEVENT
UID:2485226:Event:1808708
DTSTAMP:20260422T074802Z
SUMMARY:Cercle de Coaching Amoureux
DESCRIPTION:Après quelques années d'explorations et d'expérimentati
 ons, lectures, et formation de coaching autour de la sexualité de la 
 communication et relations masculin/féminin je réalise que j'ai des 
 choses pertinantes et originales à dire. Et la variété des particip
 ants et leur vécu permet d'apprendre les uns des autres et échanger 
 autour de nos questionnements et expériences.\nPour les couples, les 
 célibataires, les monogames, les poly, les Hommes, les Femmes, les bi
 , les trans, les gay et queer en tout genre !\nJe propose une soirée 
 à mi-chemin entre le cercle de parole et le coaching. La conférence 
 et les exercices pratiques !  Au grés de ma créativité, mon intuiti
 on, de vos demandes et de l'instant je partagerais avec vous ce que j'
 ai appris ces dernières années dans mes explorations amoureuses et s
 exuelles appuyés quand-même par deux formations de coaching dont une
  de 10 mois spécialisé sur le sujet !  Nous commencerons à 20h, ess
 ayez un peu avant pour vous installer.  Pour vous inscrire et obtenir 
 l'adresse contactez-moi par téléphone; 06.64.03.27.36  La participat
 ion financière est libre et proposée à 15e par personne. Plus et mo
 ins sont bienvenus.\n\nPour plus d'information, aller sur https://epan
 ews.fr/events/cercle-de-coaching-amoureux
DTSTART;TZID=Europe/Paris:20140307T200000
DTEND;TZID=Europe/Paris:20140307T220000
CATEGORIES:75
LOCATION:Paris près de Jules Joffrin
WEBSITE:http://www.meditationorgasmique.com
URL:http://www.meditationorgasmique.com
CONTACT:0664032736
ORGANIZER;CN=EmaOM:https://epanews.fr/profile/EmaOM
ATTACH;FMTTYPE="image/jpeg":http://storage.ning.com/topology/rest/1.0/
 file/get/1663074870?profile=original
ATTENDEE;ROLE=REQ-PARTICIPANT;PARTSTAT=ACCEPTED;RSVP=TRUE;CN=EmaOM:htt
 ps://epanews.fr/profile/EmaOM
END:VEVENT
END:VCALENDAR
