BEGIN:VCALENDAR
PRODID:NingEventWidget-v1
VERSION:2.0
METHOD:PUBLISH
BEGIN:VTIMEZONE
TZID:Europe/Paris
X-LIC-LOCATION:Europe/Paris
BEGIN:DAYLIGHT
TZOFFSETFROM:+0100
TZOFFSETTO:+0200
TZNAME:CEST
DTSTART:19700329T020000
RRULE:FREQ=YEARLY;BYMONTH=3;BYDAY=-1SU
END:DAYLIGHT
BEGIN:STANDARD
TZOFFSETFROM:+0200
TZOFFSETTO:+0100
TZNAME:CET
DTSTART:19701025T030000
RRULE:FREQ=YEARLY;BYMONTH=10;BYDAY=-1SU
END:STANDARD
END:VTIMEZONE
BEGIN:VEVENT
UID:2485226:Event:1200167
DTSTAMP:20260423T164358Z
SUMMARY:cercle d'harmonisation
DESCRIPTION:●cercle d'harmonisation, vendredi 8 mars, de 18h30 à 2
 1h à Montpellier (Candolle)Pratique collective visant à ancrer, con
 necter et harmoniser les premiers chakras. PAF: 5 €Attention, inscri
 ption impérative (nombre limité à 15) auprès de Philippe Henry, 04
  67 59 70 63 / 06 21 76 59 81 philhenry.levrai@free.fr\nLieu: associat
 ion \"les amoureux de Candolle\", 19 rue Lallemand (1ère porte à gau
 che)\n\nPour plus d'information, aller sur https://epanews.fr/events/c
 ercle-d-harmonisation-4
DTSTART;TZID=Europe/Paris:20130308T183000
DTEND;TZID=Europe/Paris:20130308T210000
CATEGORIES:34
LOCATION:Montpellier, 19 rue Lallemand
WEBSITE:
URL:
CONTACT:
ORGANIZER;CN=Henry:https://epanews.fr/profile/PhilippeHENRY
ATTACH;FMTTYPE="image/jpeg":http://storage.ning.com/topology/rest/1.0/
 file/get/1662765855?profile=original
ATTENDEE;ROLE=REQ-PARTICIPANT;PARTSTAT=ACCEPTED;RSVP=TRUE;CN=Henry:htt
 ps://epanews.fr/profile/PhilippeHENRY
ATTENDEE;ROLE=REQ-PARTICIPANT;PARTSTAT=TENTATIVE;RSVP=TRUE;CN=Ypman:ht
 tps://epanews.fr/profile/ypman
ATTENDEE;ROLE=REQ-PARTICIPANT;PARTSTAT=TENTATIVE;RSVP=TRUE;CN=Myrtille
 :https://epanews.fr/profile/Myrtille272
END:VEVENT
END:VCALENDAR
