BEGIN:VCALENDAR
PRODID:NingEventWidget-v1
VERSION:2.0
METHOD:PUBLISH
BEGIN:VTIMEZONE
TZID:Europe/Paris
X-LIC-LOCATION:Europe/Paris
BEGIN:DAYLIGHT
TZOFFSETFROM:+0100
TZOFFSETTO:+0200
TZNAME:CEST
DTSTART:19700329T020000
RRULE:FREQ=YEARLY;BYMONTH=3;BYDAY=-1SU
END:DAYLIGHT
BEGIN:STANDARD
TZOFFSETFROM:+0200
TZOFFSETTO:+0100
TZNAME:CET
DTSTART:19701025T030000
RRULE:FREQ=YEARLY;BYMONTH=10;BYDAY=-1SU
END:STANDARD
END:VTIMEZONE
BEGIN:VEVENT
UID:2485226:Event:1154316
DTSTAMP:20260420T071223Z
SUMMARY:cercle d'harmonisation
DESCRIPTION:vendredi 15 février, de 18h30 à 21h à Montpellier (Can
 dolle) pratique collective visant à ancrer, connecter et harmoniser 
 les premiers chakras. PAF: 5 € Attention, inscription impérative (n
 ombre limité à 15) auprès de Philippe Henry, 04 67 59 70 63 / 06 21
  76 59 81 philhenry.levrai@free.fr \nLieu: association \"les amoureux
  de Candolle\", 19 rue Lallemand (1ère porte à gauche)\n\nPour plus 
 d'information, aller sur https://epanews.fr/events/cercle-d-harmonisat
 ion-3
DTSTART;TZID=Europe/Paris:20130215T180000
DTEND;TZID=Europe/Paris:20130215T210000
CATEGORIES:34
LOCATION:Montpellier
WEBSITE:
URL:
CONTACT:04 67 59 70 63 / 06 21 76 59 81
ORGANIZER;CN=Henry:https://epanews.fr/profile/PhilippeHENRY
ATTACH;FMTTYPE="image/jpeg":http://storage.ning.com/topology/rest/1.0/
 file/get/1662756144?profile=original
ATTENDEE;ROLE=REQ-PARTICIPANT;PARTSTAT=ACCEPTED;RSVP=TRUE;CN=Henry:htt
 ps://epanews.fr/profile/PhilippeHENRY
END:VEVENT
END:VCALENDAR
