BEGIN:VCALENDAR
PRODID:NingEventWidget-v1
VERSION:2.0
METHOD:PUBLISH
BEGIN:VTIMEZONE
TZID:Europe/Paris
X-LIC-LOCATION:Europe/Paris
BEGIN:DAYLIGHT
TZOFFSETFROM:+0100
TZOFFSETTO:+0200
TZNAME:CEST
DTSTART:19700329T020000
RRULE:FREQ=YEARLY;BYMONTH=3;BYDAY=-1SU
END:DAYLIGHT
BEGIN:STANDARD
TZOFFSETFROM:+0200
TZOFFSETTO:+0100
TZNAME:CET
DTSTART:19701025T030000
RRULE:FREQ=YEARLY;BYMONTH=10;BYDAY=-1SU
END:STANDARD
END:VTIMEZONE
BEGIN:VEVENT
UID:2485226:Event:980780
DTSTAMP:20260420T122603Z
SUMMARY:Cercle aux Aieux
DESCRIPTION:Cercle à nos aïeux À mes Aïeux A mes ancêtres Nos anc
 iens du passé Esprit du ciel de la nuit de la forêt Me relier à vou
 s\nRetrouvez mes racines Demandez protection et clémence Pardonnez le
 s souffrances pour les lignés d' aujourdhui et demain Priez , chantez
  , célébrer , invoquez Laissez le silence Guider nos pas ensemble le
  lundi 12 novembre 2012 à 20h  http://lechantdesarbres.over-blog.com/
  Réservation demandée participation 10 euros Yaël\n\nPour plus d'in
 formation, aller sur https://epanews.fr/events/cercle-aux-aieux
DTSTART;TZID=Europe/Paris:20121112T200000
DTEND;TZID=Europe/Paris:20121112T223000
CATEGORIES:30
LOCATION:Nimes
WEBSITE:
URL:
CONTACT:
ORGANIZER;CN=Yaël:https://epanews.fr/profile/yael
ATTACH;FMTTYPE="image/jpeg":http://storage.ning.com/topology/rest/1.0/
 file/get/1662683209?profile=original
ATTENDEE;ROLE=REQ-PARTICIPANT;PARTSTAT=ACCEPTED;RSVP=TRUE;CN=Yaël:htt
 ps://epanews.fr/profile/yael
END:VEVENT
END:VCALENDAR
