BEGIN:VCALENDAR
PRODID:NingEventWidget-v1
VERSION:2.0
METHOD:PUBLISH
BEGIN:VTIMEZONE
TZID:Europe/Paris
X-LIC-LOCATION:Europe/Paris
BEGIN:DAYLIGHT
TZOFFSETFROM:+0100
TZOFFSETTO:+0200
TZNAME:CEST
DTSTART:19700329T020000
RRULE:FREQ=YEARLY;BYMONTH=3;BYDAY=-1SU
END:DAYLIGHT
BEGIN:STANDARD
TZOFFSETFROM:+0200
TZOFFSETTO:+0100
TZNAME:CET
DTSTART:19701025T030000
RRULE:FREQ=YEARLY;BYMONTH=10;BYDAY=-1SU
END:STANDARD
END:VTIMEZONE
BEGIN:VEVENT
UID:2485226:Event:956554
DTSTAMP:20260420T090723Z
SUMMARY:Cercle aux Aïeux
DESCRIPTION:Cercle à nos aïeux  À mes Aïeux  A mes ancêtres  Nos 
 anciens du passé  Esprit du ciel de la nuit de la forêt Me relier à
  vous Retrouvez mes racines  Demandez protection et clémence Pardonne
 z les souffrances pour les lignés d' aujourdhui et demain  Priez , ch
 antez , célébrer , invoquez Laissez le silence  Guider nos pas ensem
 ble  le lundi 12 novembre 2012 http://lechantdesarbres.over-blog.com/ 
  Réservation  demandée participation 10 euros  Yaël\n\nPour plus d'
 information, aller sur https://epanews.fr/events/cercle-aux-a-eux
DTSTART;TZID=Europe/Paris:20121112T200000
DTEND;TZID=Europe/Paris:20121112T221500
CATEGORIES:30
LOCATION:Nimes 3000
WEBSITE:http://lechantdesarbres.over-blog.com/
URL:http://lechantdesarbres.over-blog.com/
CONTACT:O6 20 34 54 99
ORGANIZER;CN=Yaël:https://epanews.fr/profile/yael
ATTACH;FMTTYPE="image/jpeg":http://storage.ning.com/topology/rest/1.0/
 file/get/1662669044?profile=original
ATTENDEE;ROLE=REQ-PARTICIPANT;PARTSTAT=ACCEPTED;RSVP=TRUE;CN=Yaël:htt
 ps://epanews.fr/profile/yael
END:VEVENT
END:VCALENDAR
