BEGIN:VCALENDAR
PRODID:NingEventWidget-v1
VERSION:2.0
METHOD:PUBLISH
BEGIN:VTIMEZONE
TZID:Europe/Paris
X-LIC-LOCATION:Europe/Paris
BEGIN:DAYLIGHT
TZOFFSETFROM:+0100
TZOFFSETTO:+0200
TZNAME:CEST
DTSTART:19700329T020000
RRULE:FREQ=YEARLY;BYMONTH=3;BYDAY=-1SU
END:DAYLIGHT
BEGIN:STANDARD
TZOFFSETFROM:+0200
TZOFFSETTO:+0100
TZNAME:CET
DTSTART:19701025T030000
RRULE:FREQ=YEARLY;BYMONTH=10;BYDAY=-1SU
END:STANDARD
END:VTIMEZONE
BEGIN:VEVENT
UID:2485226:Event:966943
DTSTAMP:20260420T073235Z
SUMMARY:Gratuit: porte ouverte Reiki au Centre Magda, Sanary sur Mer, 
 Var
DESCRIPTION:Ce Dimanche 14 octobre 2012: PORTE OUVERTE REIKI  au Ce
 ntre de Bien-être MAGDA à 83110 Sanary sur MER, 146 route de la ga
 re (tél:06 06 910 562).\nGRATUIT :  1 séance découverte sur RdV .
  (tél:06 42 147 187)\n+ Toute VISITE donne droit à 1 SÉANCE EN 
 CADEAU\n(RdV avant le 31/11/2012)\n- 50 % sur toutes séances Reiki, 
 ou prises de RdV en octobre\nmodele-affiche2012%20reiki%20%281%29.doc\
 n \n\n \n \n\n\nPour plus d'information, aller sur https://epanews.
 fr/events/centre-magda-porte-ouverte-reiki
DTSTART;TZID=Europe/Paris:20121014T000000
DTEND;TZID=Europe/Paris:20121014T235900
CATEGORIES:tous
LOCATION:CENTRE MAGDA, 146 route de la gare, 83110 SANARY SUR MER
WEBSITE:
URL:
CONTACT:
ORGANIZER;CN="Maryvane Énergéticienne, sophro-":https://epanews.fr/p
 rofile/Maryvane
ATTACH;FMTTYPE="image/jpeg":
ATTENDEE;ROLE=REQ-PARTICIPANT;PARTSTAT=ACCEPTED;RSVP=TRUE;CN="Maryvane
  Énergéticienne, sophro-":https://epanews.fr/profile/Maryvane
END:VEVENT
END:VCALENDAR
