BEGIN:VCALENDAR
PRODID:NingEventWidget-v1
VERSION:2.0
METHOD:PUBLISH
BEGIN:VTIMEZONE
TZID:Europe/Paris
X-LIC-LOCATION:Europe/Paris
BEGIN:DAYLIGHT
TZOFFSETFROM:+0100
TZOFFSETTO:+0200
TZNAME:CEST
DTSTART:19700329T020000
RRULE:FREQ=YEARLY;BYMONTH=3;BYDAY=-1SU
END:DAYLIGHT
BEGIN:STANDARD
TZOFFSETFROM:+0200
TZOFFSETTO:+0100
TZNAME:CET
DTSTART:19701025T030000
RRULE:FREQ=YEARLY;BYMONTH=10;BYDAY=-1SU
END:STANDARD
END:VTIMEZONE
BEGIN:VEVENT
UID:2485226:Event:2804682
DTSTAMP:20260422T120543Z
SUMMARY:Célébration de l'Homme et de la Femme
DESCRIPTION:Dans la splendeur d’une pinède varoise, une odyssée au
  coeur de votre être sacré : Conférences, ateliers, rencontres, spe
 ctacle\nLes Féminales : www.kine-var.fr/ contact@kine-var.fr\n\nPour 
 plus d'information, aller sur https://epanews.fr/events/celebration-de
 -l-homme-et-de-la-femme
DTSTART;TZID=Europe/Paris:20170513T000000
DTEND;TZID=Europe/Paris:20170514T235900
CATEGORIES:83
LOCATION:Centre Azur
WEBSITE:http://www.kine-var.fr/ contact@kine-var.fr
URL:http://www.kine-var.fr/ contact@kine-var.fr
CONTACT:0681894825
ORGANIZER:Valérie Dupont Le Bars
ATTACH;FMTTYPE="image/jpeg":http://storage.ning.com/topology/rest/1.0/
 file/get/1663651326?profile=original
ATTENDEE;ROLE=REQ-PARTICIPANT;PARTSTAT=ACCEPTED;RSVP=TRUE;CN="Franck e
 t Nadine Sarah Aubert":https://epanews.fr/profile/FranckAUBERT
END:VEVENT
END:VCALENDAR
