BEGIN:VCALENDAR
PRODID:NingEventWidget-v1
VERSION:2.0
METHOD:PUBLISH
BEGIN:VTIMEZONE
TZID:Europe/Paris
X-LIC-LOCATION:Europe/Paris
BEGIN:DAYLIGHT
TZOFFSETFROM:+0100
TZOFFSETTO:+0200
TZNAME:CEST
DTSTART:19700329T020000
RRULE:FREQ=YEARLY;BYMONTH=3;BYDAY=-1SU
END:DAYLIGHT
BEGIN:STANDARD
TZOFFSETFROM:+0200
TZOFFSETTO:+0100
TZNAME:CET
DTSTART:19701025T030000
RRULE:FREQ=YEARLY;BYMONTH=10;BYDAY=-1SU
END:STANDARD
END:VTIMEZONE
BEGIN:VEVENT
UID:2485226:Event:1461251
DTSTAMP:20260423T114225Z
SUMMARY:Ce que peut vous apporter le Massage Sensitif (R) de Bien-Êtr
 e
DESCRIPTION:Si vous souhaitez vous détendre dans un cadre agréable e
 t calme, tout en découvrant une technique différente des autres. Alo
 rs vous êtes le bien venu Cette conférence est GRATUITE\n\nPour plus
  d'information, aller sur https://epanews.fr/events/ce-que-peut-vous-a
 pporter-le-massage-sensitif-r-de-bien-tre
DTSTART;TZID=Europe/Paris:20130904T193000
DTEND;TZID=Europe/Paris:20130904T210000
CATEGORIES:83
LOCATION:TOULON
WEBSITE:http://www.relaxation-detente.com
URL:http://www.relaxation-detente.com
CONTACT:06 10 74 76 97
ORGANIZER;CN="Francis MESSIN":https://epanews.fr/profile/FrancisMESSIN
ATTACH;FMTTYPE="image/jpeg":
ATTENDEE;ROLE=REQ-PARTICIPANT;PARTSTAT=ACCEPTED;RSVP=TRUE;CN="Francis 
 MESSIN":https://epanews.fr/profile/FrancisMESSIN
END:VEVENT
END:VCALENDAR
