BEGIN:VCALENDAR
PRODID:NingEventWidget-v1
VERSION:2.0
METHOD:PUBLISH
BEGIN:VTIMEZONE
TZID:Europe/Paris
X-LIC-LOCATION:Europe/Paris
BEGIN:DAYLIGHT
TZOFFSETFROM:+0100
TZOFFSETTO:+0200
TZNAME:CEST
DTSTART:19700329T020000
RRULE:FREQ=YEARLY;BYMONTH=3;BYDAY=-1SU
END:DAYLIGHT
BEGIN:STANDARD
TZOFFSETFROM:+0200
TZOFFSETTO:+0100
TZNAME:CET
DTSTART:19701025T030000
RRULE:FREQ=YEARLY;BYMONTH=10;BYDAY=-1SU
END:STANDARD
END:VTIMEZONE
BEGIN:VEVENT
UID:2485226:Event:2049521
DTSTAMP:20260421T190103Z
SUMMARY:Cartomancie, Voyance, Médiumnité... Comment faire la différ
 ence !
DESCRIPTION:CAUSERIES D'AUTOMNE Les causeries continuent avec ce mardi
  30 septembre : Cartomancie, Voyance, Médiumnité... Comment faire la
  différence ! Guidée par  Simeloa CG & Valérie  Nous consultons so
 uvent pour avoir une approche de notre avenir, répondre à un questio
 nnement. Mais qui voyons-nous et que peut nous apporter la personne qu
 e nous interrogeons ? Tout n’est pas aussi tranché que nous le pens
 ons. Bien qu’à la base la distinction soit franche, il est des fron
 tières plus ou moins floues. Soyez les bienvenus dans le domaine du f
 utur et du passé. Participants et intervenants partagent la soirée e
 ntre discussions et buffet bio-végétarien pour un moment conviviale.
 ..  Rendez vous à 19h30 Participation à la soirée et buffet : 20€
   Rejoignez nous en plein centre-ville de Toulon  Le Liber’Thé – 
 12 Avenue Jean Moulin – 6e étage - Toulon  Renseignements & Réserv
 ations :  06 59 26 21 95 & mail : alliance.art.et.bienetre@gmail.com\n
 \nPour plus d'information, aller sur https://epanews.fr/events/cartoma
 ncie-voyance-m-diumnit-comment-faire-la-diff-rence
DTSTART;TZID=Europe/Paris:20140930T193000
DTEND;TZID=Europe/Paris:20140930T234500
CATEGORIES:83
LOCATION:Le Liber'Thé
WEBSITE:https://www.facebook.com/events/844210498942628/
URL:https://www.facebook.com/events/844210498942628/
CONTACT:06 59 26 21 95
ORGANIZER;CN="Alliance Art' & Bien-être":https://epanews.fr/profile/A
 llianceArtBienetre
ATTACH;FMTTYPE="image/jpeg":http://storage.ning.com/topology/rest/1.0/
 file/get/1663213683?profile=original
ATTENDEE;ROLE=REQ-PARTICIPANT;PARTSTAT=ACCEPTED;RSVP=TRUE;CN="Alliance
  Art' & Bien-être":https://epanews.fr/profile/AllianceArtBienetre
END:VEVENT
END:VCALENDAR
