BEGIN:VCALENDAR
PRODID:NingEventWidget-v1
VERSION:2.0
METHOD:PUBLISH
BEGIN:VTIMEZONE
TZID:Europe/Paris
X-LIC-LOCATION:Europe/Paris
BEGIN:DAYLIGHT
TZOFFSETFROM:+0100
TZOFFSETTO:+0200
TZNAME:CEST
DTSTART:19700329T020000
RRULE:FREQ=YEARLY;BYMONTH=3;BYDAY=-1SU
END:DAYLIGHT
BEGIN:STANDARD
TZOFFSETFROM:+0200
TZOFFSETTO:+0100
TZNAME:CET
DTSTART:19701025T030000
RRULE:FREQ=YEARLY;BYMONTH=10;BYDAY=-1SU
END:STANDARD
END:VTIMEZONE
BEGIN:VEVENT
UID:2485226:Event:1343277
DTSTAMP:20260422T154028Z
SUMMARY:Canalisation de lâ€™Ã‰nergie divine de lâ€™Ange Kirael (confÃ©
 rence d'entrÃ©e libre). Consultations et soins dâ€™activations Ã©nergÃ
 ©tiques (1h par personne - donation volontaire)
DESCRIPTION:Programmation de la soirÃ©eÂ du 23, 24 et 25 mai. ENTRÃ‰E 
 LIBRE Ã  partir de 19h30:\nÂ 1.Â Canalisation de lâ€™Ã‰nergie divine d
 e lâ€™Ange Kirael pour le groupe dâ€™assistants.\nQuâ€™est-ce que câ€™
 est cette Energie?Â \nÂ Lâ€™Ã‰NERGIE DIVINE DE L'ANGE KIRAEL apaise l'
 Ã‚me pour clarifier notre certitude IntÃ©rieure. Cette guÃ©rison nâ€™e
 st quâ€™une canalisation de lâ€™Energie AngÃ©lique de lumiÃ¨re irradiÃ
 ©e vers lâ€™Ã¢me humaine pour nous protÃ©ger, nous renouveler et nous 
 comprendre nous-mÃªmes.\nLe principal objectif est notre Evolution Ã  
 partir de l'Ã¢me, de nous rencontrer avec notre Ã©tat naturel perdu.\n
 Ceci ne signifie pas que toutes les difficultÃ©s ou tous les obstacles
  disparaissent sur notre chemin, mais cette Ã‰nergie AngÃ©lique Divine
  aide pour que notre foi devienne une source de Patience et MaturitÃ© 
 Spirituel.\nCette guÃ©rison est une canalisation de Sa Propre Source D
 ivine, Â«Â Energie CrÃ©atriceÂ Â». Lâ€™intelligence de cette Energie D
 ivine travaille automatiquement et instantanÃ©ment dans la personne, e
 t Â rÃ©pond ainsi avec son but Divine dâ€™unifier le Corps, le Mental 
 etÂ  lâ€™Esprit.\n1.Canalisation de cette Ã‰nergie de GuÃ©rison comme 
 rÃ©ponse aux questions personnelles des assistants.\n2.Avec cette Ener
 gie, dÃ©monstrations de la ThÃ©rapie de GuÃ©rison, libÃ©ratrice du Â«Â
  karmaÂ Â» (par l'imposition des mains). \nProgrammation de la journÃ©
 eÂ du 24 et 25 mai. DONATIVE VOLONTAIRE de 08h00 jusqu'Ã  19h30:\nPend
 ant toute la journÃ©e consultations/thÃ©rapies dâ€™Activation EnergÃ©t
 ique de 1 heure par personne.\n\nPour plus d'information, aller sur ht
 tps://epanews.fr/events/canalisation-de-l-nergie-divine-de-l-ange-kira
 el-conf-rence-d
DTSTART;TZID=Europe/Paris:20130523T193000
DTEND;TZID=Europe/Paris:20130525T233000
CATEGORIES:75
LOCATION:Paris, Espace \"Le bÃ¢ton de parole\"
WEBSITE:http://goo.gl/maps/Oo4cC
URL:http://goo.gl/maps/Oo4cC
CONTACT:0034669492969
ORGANIZER;CN=caroucar:https://epanews.fr/profile/caroucar
ATTACH;FMTTYPE="image/jpeg":http://storage.ning.com/topology/rest/1.0/
 file/get/1662827839?profile=original
ATTENDEE;ROLE=REQ-PARTICIPANT;PARTSTAT=ACCEPTED;RSVP=TRUE;CN=carcalpe:
 https://epanews.fr/profile/carcalpe
ATTENDEE;ROLE=REQ-PARTICIPANT;PARTSTAT=ACCEPTED;RSVP=TRUE;CN=caroucar:
 https://epanews.fr/profile/caroucar
END:VEVENT
END:VCALENDAR
