BEGIN:VCALENDAR
PRODID:NingEventWidget-v1
VERSION:2.0
METHOD:PUBLISH
BEGIN:VTIMEZONE
TZID:Europe/Paris
X-LIC-LOCATION:Europe/Paris
BEGIN:DAYLIGHT
TZOFFSETFROM:+0100
TZOFFSETTO:+0200
TZNAME:CEST
DTSTART:19700329T020000
RRULE:FREQ=YEARLY;BYMONTH=3;BYDAY=-1SU
END:DAYLIGHT
BEGIN:STANDARD
TZOFFSETFROM:+0200
TZOFFSETTO:+0100
TZNAME:CET
DTSTART:19701025T030000
RRULE:FREQ=YEARLY;BYMONTH=10;BYDAY=-1SU
END:STANDARD
END:VTIMEZONE
BEGIN:VEVENT
UID:2485226:Event:2447070
DTSTAMP:20260423T111339Z
SUMMARY:Calmer ses émotions avec l'auto-hypnose
DESCRIPTION:L'association des couleurs dans ta Vie anime tous les lund
 is soir à Marseille et les mardis soir à Reims et Lambesc (13- 20mn 
 d'Aix en Provence) des ateliers d'épanouissement personnel et relatio
 nnel.\n\nPour plus d'information, aller sur https://epanews.fr/events/
 calmer-ses-motions-avec-l-auto-hypnose
DTSTART;TZID=Europe/Paris:20151019T200000
DTEND;TZID=Europe/Paris:20151019T220000
CATEGORIES:13
LOCATION:Marseille
WEBSITE:
URL:
CONTACT:
ORGANIZER;CN="bois de rose":https://epanews.fr/profile/boisderose
ATTACH;FMTTYPE="image/jpeg":
ATTENDEE;ROLE=REQ-PARTICIPANT;PARTSTAT=ACCEPTED;RSVP=TRUE;CN="bois de 
 rose":https://epanews.fr/profile/boisderose
END:VEVENT
END:VCALENDAR
