BEGIN:VCALENDAR
PRODID:NingEventWidget-v1
VERSION:2.0
METHOD:PUBLISH
BEGIN:VTIMEZONE
TZID:Europe/Paris
X-LIC-LOCATION:Europe/Paris
BEGIN:DAYLIGHT
TZOFFSETFROM:+0100
TZOFFSETTO:+0200
TZNAME:CEST
DTSTART:19700329T020000
RRULE:FREQ=YEARLY;BYMONTH=3;BYDAY=-1SU
END:DAYLIGHT
BEGIN:STANDARD
TZOFFSETFROM:+0200
TZOFFSETTO:+0100
TZNAME:CET
DTSTART:19701025T030000
RRULE:FREQ=YEARLY;BYMONTH=10;BYDAY=-1SU
END:STANDARD
END:VTIMEZONE
BEGIN:VEVENT
UID:2485226:Event:1027171
DTSTAMP:20260420T170656Z
SUMMARY:cafe santé
DESCRIPTION:Café santé :\nQuels sont les moyens de prévention natur
 els ? Comment semaintenir en santé ? Quels sont les moyens d'informat
 ion existants ?\nL'idée des « café santé » est de nous retrouver 
 dans un contexte convivial pour partager et apporter des informations 
 sur les méthodes de prévention de la santé sur tousles plans : phys
 ique, psychique, relationnel.\nquels moyens simples mettre en œuvre e
 t comment.\nChaque rencontre sera l'occasion de découvrir une méthod
 e différente, un intervenant différent.\nle premier café santé aur
 a lieu le 22 novembre au restaurant biologique \"zone verte\" Lyon 2e,
  de 19h30 à 21h30\nAprès une présentation globale de l'idée des ca
 fés santé, del'importance d'une vision globale des moyens d'entreten
 ir sa santé, nous nous intéresserons plus précisément aux bienfait
 s du toucher.Avec Catherine Lesnepraticienne en massages de bien être
 , automassages06 12 92 54 71et Marie Thérèse Bouillotinfirmière, th
 érapie manuelle, rêve éveillé,hypnose, informations sur le sitehtt
 p://reflexo69.over-blog.com06 70 59 69 57 ou 04 72 73 37 45\nlieu :Zon
 e verte, 24 quai saint Antoine\n69002 Lyonwww.zoneverte.fr\nRéservati
 on obligatoire auprès de Catherine Lesne ou Marie Thérèse Bouillot,
  avant le 21 novembre, nombre de places limitées. une participation d
 e 10€ par personne pour les intervenants ainsi qu'une consommation s
 ur place sont demandées.\nprochain café santé le 13 decembre avec J
 ean Claude Nguyen, soit sur le thème des réflexologies, Jean Claude 
 Nguyen présentera le dien chan (réflexologie vietnamienne), soit sur
  le thème de l'eau.\nle café santé de janvier sera avec Françoise 
 Obled Perrin, infirmière hypnothérapeute, elle nous présentera le R
 ESC\n\n\n\nPour plus d'information, aller sur https://epanews.fr/event
 s/cafe-sant
DTSTART;TZID=Europe/Paris:20121122T193000
DTEND;TZID=Europe/Paris:20121122T213000
CATEGORIES:69
LOCATION:lyon 2e, restaurant zone verte
WEBSITE:http://www.reflexo69.over-blog.com
URL:http://www.reflexo69.over-blog.com
CONTACT:06 70 59 69 57
ORGANIZER;CN=marithe:https://epanews.fr/profile/marithe
ATTACH;FMTTYPE="image/jpeg":
ATTENDEE;ROLE=REQ-PARTICIPANT;PARTSTAT=ACCEPTED;RSVP=TRUE;CN=marithe:h
 ttps://epanews.fr/profile/marithe
END:VEVENT
END:VCALENDAR
