BEGIN:VCALENDAR
PRODID:NingEventWidget-v1
VERSION:2.0
METHOD:PUBLISH
BEGIN:VTIMEZONE
TZID:Europe/Paris
X-LIC-LOCATION:Europe/Paris
BEGIN:DAYLIGHT
TZOFFSETFROM:+0100
TZOFFSETTO:+0200
TZNAME:CEST
DTSTART:19700329T020000
RRULE:FREQ=YEARLY;BYMONTH=3;BYDAY=-1SU
END:DAYLIGHT
BEGIN:STANDARD
TZOFFSETFROM:+0200
TZOFFSETTO:+0100
TZNAME:CET
DTSTART:19701025T030000
RRULE:FREQ=YEARLY;BYMONTH=10;BYDAY=-1SU
END:STANDARD
END:VTIMEZONE
BEGIN:VEVENT
UID:2485226:Event:1093599
DTSTAMP:20260421T201854Z
SUMMARY:cafe santÃ© : ma famille, ma santÃ©, lyon 17 janvier
DESCRIPTION:le 17 janvier Ã  19h30 Â«Â CafÃ© santÃ© Â»\nÂ  cafÃ© santÃ
 © avec Daniella Conti\nMA FAMILLEâ€¦MA SANTE !\n\nQuel rapport entre l
 a santÃ© et la famille ? le microcosme familial influe sur notre perso
 nnalitÃ©, notre santÃ©, notre bien Ãªtre ou au contraire l'installatio
 n de relations \"dangereuses\", voire toxiques. Ce cafÃ© santÃ© en co 
 animation avec Daniella Conti nous parlera de la famille autrement, co
 mment gÃ©rer les relations intra familiales, comment les comprendre, l
 es soigner. Daniella Conti prÃ©sentera en particulier la mÃ©thode des 
 constellations familiales.renseignements sur le site de marie thÃ©rÃ¨s
 e Bouillot : http://reflexo69.over-blog.com, 04 72 73 37 45 ou 06 70 5
 9 69 57site de Daniella Conti : http://www.constellationsfamiliales.ne
 t, mail : conti.daniella@gmail.com, (0)4 78 47 74 31 Port : +33 (0)6 6
 6 92 63 94la rÃ©servation est obligatoire avant le 16 janvier auprÃ¨s 
 de Marie ThÃ©rÃ¨se Bouillot ou de Daniella Conti\n\n\nÂ Â \n\nPour plu
 s d'information, aller sur https://epanews.fr/events/cafe-sant-ma-fami
 lle-ma-sant-lyon-17-janvier
DTSTART;TZID=Europe/Paris:20130117T193000
DTEND;TZID=Europe/Paris:20130117T210000
CATEGORIES:69
LOCATION:lyon
WEBSITE:http://reflexo69.over-blog.com
URL:http://reflexo69.over-blog.com
CONTACT:04 72 73 37 45/ 06 70 59 69 57
ORGANIZER;CN=marithe:https://epanews.fr/profile/marithe
ATTACH;FMTTYPE="image/jpeg":
ATTENDEE;ROLE=REQ-PARTICIPANT;PARTSTAT=ACCEPTED;RSVP=TRUE;CN=marithe:h
 ttps://epanews.fr/profile/marithe
END:VEVENT
END:VCALENDAR
