BEGIN:VCALENDAR
PRODID:NingEventWidget-v1
VERSION:2.0
METHOD:PUBLISH
BEGIN:VTIMEZONE
TZID:Europe/Paris
X-LIC-LOCATION:Europe/Paris
BEGIN:DAYLIGHT
TZOFFSETFROM:+0100
TZOFFSETTO:+0200
TZNAME:CEST
DTSTART:19700329T020000
RRULE:FREQ=YEARLY;BYMONTH=3;BYDAY=-1SU
END:DAYLIGHT
BEGIN:STANDARD
TZOFFSETFROM:+0200
TZOFFSETTO:+0100
TZNAME:CET
DTSTART:19701025T030000
RRULE:FREQ=YEARLY;BYMONTH=10;BYDAY=-1SU
END:STANDARD
END:VTIMEZONE
BEGIN:VEVENT
UID:2485226:Event:1591109
DTSTAMP:20260423T085037Z
SUMMARY:cafe-psycho de sanary
DESCRIPTION:Le thème de ce soir: développement personnel ou psychoth
 érapie?\nSont-ce là des démarches très semblables ou vraiment diff
 érentes? au programme, 20 minutes d'écoute mutuelle (à deux) , puis
  débat classique, puis repas à 12 euros facultatif bien sûr..le tou
 t dans un nouveau lieu qui a l'air très confortable et sympa...il y a
  toujours entre 15 et 30 personnes... parking gratuit, il suffit de co
 nsommer une boisson pour remercier le cafetier de son amabilité..bise
 s, et à bientôt. Gilles \n\nPour plus d'information, aller sur http
 s://epanews.fr/events/cafe-psycho-de-sanary
DTSTART;TZID=Europe/Paris:20131113T193000
DTEND;TZID=Europe/Paris:20131113T210000
CATEGORIES:83, 13
LOCATION:sanary
WEBSITE:
URL:
CONTACT:06 15 85 75 62
ORGANIZER;CN="COLLIN gilles":https://epanews.fr/profile/COLLINgilles
ATTACH;FMTTYPE="image/jpeg":
ATTENDEE;ROLE=REQ-PARTICIPANT;PARTSTAT=ACCEPTED;RSVP=TRUE;CN="COLLIN g
 illes":https://epanews.fr/profile/COLLINgilles
ATTENDEE;ROLE=REQ-PARTICIPANT;PARTSTAT=TENTATIVE;RSVP=TRUE;CN="Anne-Ma
 rie PAILLARD":https://epanews.fr/profile/AnneMariePAILLARD
END:VEVENT
END:VCALENDAR
