BEGIN:VCALENDAR
PRODID:NingEventWidget-v1
VERSION:2.0
METHOD:PUBLISH
BEGIN:VTIMEZONE
TZID:Europe/Paris
X-LIC-LOCATION:Europe/Paris
BEGIN:DAYLIGHT
TZOFFSETFROM:+0100
TZOFFSETTO:+0200
TZNAME:CEST
DTSTART:19700329T020000
RRULE:FREQ=YEARLY;BYMONTH=3;BYDAY=-1SU
END:DAYLIGHT
BEGIN:STANDARD
TZOFFSETFROM:+0200
TZOFFSETTO:+0100
TZNAME:CET
DTSTART:19701025T030000
RRULE:FREQ=YEARLY;BYMONTH=10;BYDAY=-1SU
END:STANDARD
END:VTIMEZONE
BEGIN:VEVENT
UID:2485226:Event:32548
DTSTAMP:20260420T230207Z
SUMMARY:Café Mieux Etre : relaxation, méditation et lâcher prise
DESCRIPTION:Venez découvrir avec Sylvain Ladaique une voie naturelle 
 vers le mieux être, expérimenter des outils de gestion du stress pou
 r vivre pleinement sa vie et se faire du bien !\nBioénergéticien, en
 seignant, chercheur, conférencier, Sylvain Ladaique se passionne depu
 is plus de 20 ans pour toutes les méthodes qui amènent à unifier l'
 être humain dans sa réalité énergétique et spirituelle. Il se for
 me à de nombreuses techniques de développement personnel : énergét
 ique chinoise, sophrologie, méditation, yoga, techniques taoïstes ..
 .\n\nPour plus d'information, aller sur https://epanews.fr/events/cafe
 -mieux-etre-relaxation
DTSTART;TZID=Europe/Paris:20100216T190000
DTEND;TZID=Europe/Paris:20100216T210000
CATEGORIES:75
LOCATION:Bistrot Saint Antoine
WEBSITE:http://www.cafedumieuxetre.fr/index.php/les-rendez-vous
URL:http://www.cafedumieuxetre.fr/index.php/les-rendez-vous
CONTACT:06 67 53 76 52
ORGANIZER:Michelle
ATTACH;FMTTYPE="image/jpeg":http://storage.ning.com/topology/rest/1.0/
 file/get/1662290500?profile=original
ATTENDEE;ROLE=REQ-PARTICIPANT;PARTSTAT=ACCEPTED;RSVP=TRUE;CN="Roger's"
 :https://epanews.fr/profile/Rogers
ATTENDEE;ROLE=REQ-PARTICIPANT;PARTSTAT=ACCEPTED;RSVP=TRUE;CN=Sylvain:h
 ttps://epanews.fr/profile/Sylvain
END:VEVENT
END:VCALENDAR
