BEGIN:VCALENDAR
PRODID:NingEventWidget-v1
VERSION:2.0
METHOD:PUBLISH
BEGIN:VTIMEZONE
TZID:Europe/Paris
X-LIC-LOCATION:Europe/Paris
BEGIN:DAYLIGHT
TZOFFSETFROM:+0100
TZOFFSETTO:+0200
TZNAME:CEST
DTSTART:19700329T020000
RRULE:FREQ=YEARLY;BYMONTH=3;BYDAY=-1SU
END:DAYLIGHT
BEGIN:STANDARD
TZOFFSETFROM:+0200
TZOFFSETTO:+0100
TZNAME:CET
DTSTART:19701025T030000
RRULE:FREQ=YEARLY;BYMONTH=10;BYDAY=-1SU
END:STANDARD
END:VTIMEZONE
BEGIN:VEVENT
UID:2485226:Event:1280709
DTSTAMP:20260422T184121Z
SUMMARY:café santé : l'homéopathie
DESCRIPTION:Café santé sur l'homéopathie :\nLe Docteur Servillat, h
 oméopathe expérimenté vous présentera l'homéopathie, venez échan
 ger avec nous, poser toutes les questions que vous n'avez jamais osé 
 poser...\nMerci de laisser une petite participation pour dédommager l
 'intervenant et pour l'organisation des cafés santé. Une consommatio
 n sur place est demandé également,\nmerci, à bientôt !\n\nPour plu
 s d'information, aller sur https://epanews.fr/events/caf-sant-l-hom-op
 athie
DTSTART;TZID=Europe/Paris:20130523T193000
DTEND;TZID=Europe/Paris:20130523T220000
CATEGORIES:69
LOCATION:lyon
WEBSITE:http://reflexo69.over-blog.com
URL:http://reflexo69.over-blog.com
CONTACT:06 70 59 69 57
ORGANIZER;CN=marithe:https://epanews.fr/profile/marithe
ATTACH;FMTTYPE="image/jpeg":
ATTENDEE;ROLE=REQ-PARTICIPANT;PARTSTAT=ACCEPTED;RSVP=TRUE;CN=marithe:h
 ttps://epanews.fr/profile/marithe
END:VEVENT
END:VCALENDAR
