BEGIN:VCALENDAR
PRODID:NingEventWidget-v1
VERSION:2.0
METHOD:PUBLISH
BEGIN:VTIMEZONE
TZID:Europe/Paris
X-LIC-LOCATION:Europe/Paris
BEGIN:DAYLIGHT
TZOFFSETFROM:+0100
TZOFFSETTO:+0200
TZNAME:CEST
DTSTART:19700329T020000
RRULE:FREQ=YEARLY;BYMONTH=3;BYDAY=-1SU
END:DAYLIGHT
BEGIN:STANDARD
TZOFFSETFROM:+0200
TZOFFSETTO:+0100
TZNAME:CET
DTSTART:19701025T030000
RRULE:FREQ=YEARLY;BYMONTH=10;BYDAY=-1SU
END:STANDARD
END:VTIMEZONE
BEGIN:VEVENT
UID:2485226:Event:1650840
DTSTAMP:20260423T192755Z
SUMMARY:café-psycho de sanary
DESCRIPTION:ce soir, ce sera: l'Ho'oponopono. Théorie et pratique, no
 us surferons donc ensemble sur cette technique hawaïenne...le nouveau
  lieu est très confortable et sympa...à cette occasion , je parlerai
  aussi d'un atelier continu de thérapie-développement personnel, heb
 domadaire, au beausset.\n\nPour plus d'information, aller sur https://
 epanews.fr/events/caf-psycho-de-sanary-1
DTSTART;TZID=Europe/Paris:20131218T193000
DTEND;TZID=Europe/Paris:20131218T210000
CATEGORIES:83
LOCATION:sanary
WEBSITE:
URL:
CONTACT:06 15 85 75 62
ORGANIZER;CN="COLLIN gilles":https://epanews.fr/profile/COLLINgilles
ATTACH;FMTTYPE="image/jpeg":
ATTENDEE;ROLE=REQ-PARTICIPANT;PARTSTAT=ACCEPTED;RSVP=TRUE;CN="COLLIN g
 illes":https://epanews.fr/profile/COLLINgilles
ATTENDEE;ROLE=REQ-PARTICIPANT;PARTSTAT=TENTATIVE;RSVP=TRUE;CN="123 Sol
 eil":https://epanews.fr/profile/NEDELLEC
ATTENDEE;ROLE=REQ-PARTICIPANT;PARTSTAT=TENTATIVE;RSVP=TRUE;CN="Anne-Ma
 rie PAILLARD":https://epanews.fr/profile/AnneMariePAILLARD
END:VEVENT
END:VCALENDAR
