BEGIN:VCALENDAR
PRODID:NingEventWidget-v1
VERSION:2.0
METHOD:PUBLISH
BEGIN:VTIMEZONE
TZID:Europe/Paris
X-LIC-LOCATION:Europe/Paris
BEGIN:DAYLIGHT
TZOFFSETFROM:+0100
TZOFFSETTO:+0200
TZNAME:CEST
DTSTART:19700329T020000
RRULE:FREQ=YEARLY;BYMONTH=3;BYDAY=-1SU
END:DAYLIGHT
BEGIN:STANDARD
TZOFFSETFROM:+0200
TZOFFSETTO:+0100
TZNAME:CET
DTSTART:19701025T030000
RRULE:FREQ=YEARLY;BYMONTH=10;BYDAY=-1SU
END:STANDARD
END:VTIMEZONE
BEGIN:VEVENT
UID:2485226:Event:2953341
DTSTAMP:20260424T142548Z
SUMMARY:Café Mortel proposé par l'association Syprès
DESCRIPTION:Les Cafés Mortels, qu'est-ce que c'est?\nLe concept est s
 imple : Un café mortel revêt la forme informelle d'un café philo. O
 n se retrouve dans un lieu, que ce soit un bar, un café ou une salle 
 d'événement dans un bateau, et on parle... de la mort.\nCréés par 
 le sociologue et anthropologue Bernard Crettaz en Suisse, le but des C
 afés Mortels est de réunir des personnes autour d'une tasse de café
  ou d'un verre de vin, et d'apporter un autre regard sur le deuil, les
  funérailles, ou bien la mort en soi. Le but des Cafés est de laisse
 r la place à une parole ordinaire, afin que chacun·e se sente libre 
 de venir y partager son expérience ou simplement écouter.\nENTRÉE L
 IBRE\nRDV à 19h\nUne rencontre animée par Eudileza Gallet et Eric Mo
 rabin\n\nPour plus d'information, aller sur https://epanews.fr/events/
 caf-mortel-propos-par-l-association-sypr-s
DTSTART;TZID=Europe/Paris:20180515T190000
DTEND;TZID=Europe/Paris:20180515T220000
CATEGORIES:33
LOCATION:Iboat, Bordeaux
WEBSITE:https://www.therapeutepsychocorporel.fr/single-post/2018/05/01
 /Caf%C3%A9-Mortel
URL:https://www.therapeutepsychocorporel.fr/single-post/2018/05/01/Caf
 %C3%A9-Mortel
CONTACT:0617785381
ORGANIZER;CN="therapeute psychocorporel bdx":https://epanews.fr/profil
 e/therapeutepsychocorporelbdx
ATTACH;FMTTYPE="image/jpeg":
ATTENDEE;ROLE=REQ-PARTICIPANT;PARTSTAT=ACCEPTED;RSVP=TRUE;CN="therapeu
 te psychocorporel bdx":https://epanews.fr/profile/therapeutepsychocorp
 orelbdx
END:VEVENT
END:VCALENDAR
