BEGIN:VCALENDAR
PRODID:NingEventWidget-v1
VERSION:2.0
METHOD:PUBLISH
BEGIN:VTIMEZONE
TZID:Europe/Paris
X-LIC-LOCATION:Europe/Paris
BEGIN:DAYLIGHT
TZOFFSETFROM:+0100
TZOFFSETTO:+0200
TZNAME:CEST
DTSTART:19700329T020000
RRULE:FREQ=YEARLY;BYMONTH=3;BYDAY=-1SU
END:DAYLIGHT
BEGIN:STANDARD
TZOFFSETFROM:+0200
TZOFFSETTO:+0100
TZNAME:CET
DTSTART:19701025T030000
RRULE:FREQ=YEARLY;BYMONTH=10;BYDAY=-1SU
END:STANDARD
END:VTIMEZONE
BEGIN:VEVENT
UID:2485226:Event:1048490
DTSTAMP:20260422T172709Z
SUMMARY:café de Personocratia
DESCRIPTION:c'est le dernier \"café de personocratia \" de 2012 sur l
 e thème de la Famille ...\nil reste 3 places ...\nparticipation convi
 viale autour d'un café , thé ou chocolat chaud ? \ncoût : 6 euros 
 : 40 points JEU ou SEL \nà bientôt\n\nPour plus d'information, alle
 r sur https://epanews.fr/events/caf-de-personocratia-1
DTSTART;TZID=Europe/Paris:20121202T141500
DTEND;TZID=Europe/Paris:20121202T173000
CATEGORIES:56
LOCATION:à Plouharnel près de Carnac ( morbihan)
WEBSITE:
URL:
CONTACT:02 97 58 37 56 / 06 08 97 80 87
ORGANIZER;CN=anyvone:https://epanews.fr/profile/dezell
ATTACH;FMTTYPE="image/jpeg":http://storage.ning.com/topology/rest/1.0/
 file/get/1662708383?profile=original
ATTENDEE;ROLE=REQ-PARTICIPANT;PARTSTAT=ACCEPTED;RSVP=TRUE;CN=anyvone:h
 ttps://epanews.fr/profile/dezell
END:VEVENT
END:VCALENDAR
