BEGIN:VCALENDAR
PRODID:NingEventWidget-v1
VERSION:2.0
METHOD:PUBLISH
BEGIN:VTIMEZONE
TZID:Europe/Paris
X-LIC-LOCATION:Europe/Paris
BEGIN:DAYLIGHT
TZOFFSETFROM:+0100
TZOFFSETTO:+0200
TZNAME:CEST
DTSTART:19700329T020000
RRULE:FREQ=YEARLY;BYMONTH=3;BYDAY=-1SU
END:DAYLIGHT
BEGIN:STANDARD
TZOFFSETFROM:+0200
TZOFFSETTO:+0100
TZNAME:CET
DTSTART:19701025T030000
RRULE:FREQ=YEARLY;BYMONTH=10;BYDAY=-1SU
END:STANDARD
END:VTIMEZONE
BEGIN:VEVENT
UID:2485226:Event:598742
DTSTAMP:20260423T210710Z
SUMMARY:Café de l'harmonie samedi 26 novembre 2011
DESCRIPTION:Café de l'Harmonie\nLe Café de l'harmonie, est un espace
  convivial, créé par Harmony, qui vous offre la possibilité de vous
  exprimer sur un thème choisi. C'est un instant de vie, d'écoute, d'
 échange et de partage, pour être au coeur du bien-être... et  de l
 'harmonie. Il a lieu un samedi sur deux de 10h30 à 12H. Thème du jou
 r : \" Comment trouver la sérénité ? \"\n\nPour plus d'information,
  aller sur https://epanews.fr/events/caf-de-l-harmonie-samedi-26-novem
 bre-2011
DTSTART;TZID=Europe/Paris:20111126T103000
DTEND;TZID=Europe/Paris:20111126T120000
CATEGORIES:75
LOCATION:PARIS 16
WEBSITE:http://métro Porte de St Cloud derrière l'église direction 
 parc des princes
URL:http://métro Porte de St Cloud derrière l'église direction parc
  des princes
CONTACT:
ORGANIZER;CN=harmony:https://epanews.fr/profile/harmony
ATTACH;FMTTYPE="image/jpeg":http://storage.ning.com/topology/rest/1.0/
 file/get/1662502566?profile=original
ATTENDEE;ROLE=REQ-PARTICIPANT;PARTSTAT=ACCEPTED;RSVP=TRUE;CN=harmony:h
 ttps://epanews.fr/profile/harmony
END:VEVENT
END:VCALENDAR
