BEGIN:VCALENDAR
PRODID:NingEventWidget-v1
VERSION:2.0
METHOD:PUBLISH
BEGIN:VTIMEZONE
TZID:Europe/Paris
X-LIC-LOCATION:Europe/Paris
BEGIN:DAYLIGHT
TZOFFSETFROM:+0100
TZOFFSETTO:+0200
TZNAME:CEST
DTSTART:19700329T020000
RRULE:FREQ=YEARLY;BYMONTH=3;BYDAY=-1SU
END:DAYLIGHT
BEGIN:STANDARD
TZOFFSETFROM:+0200
TZOFFSETTO:+0100
TZNAME:CET
DTSTART:19701025T030000
RRULE:FREQ=YEARLY;BYMONTH=10;BYDAY=-1SU
END:STANDARD
END:VTIMEZONE
BEGIN:VEVENT
UID:2485226:Event:726017
DTSTAMP:20260421T155448Z
SUMMARY:Café de l'harmonie samedi 17 mars 2012 à  11h
DESCRIPTION:Espace convivial, pour nous exprimer sur le thème :\n \"
  Au-delà du virtuel :  le réel. Comment rencontrer véritablement l
 'autre  ? \"\n Venez vous exprimer librement, et patager ce thème, 
 selon votre culture, votre éducation, vos traditions, votre philosoph
 ie...\n Le Café de l'harmonie est un instant de vie, d'écoute d'éc
 hange et de partage, pour être au coeur du bien-être et... de l'harm
 onie.\n\nPour plus d'information, aller sur https://epanews.fr/events/
 caf-de-l-harmonie-samedi-17-mars-2012-11h
DTSTART;TZID=Europe/Paris:20120317T110000
DTEND;TZID=Europe/Paris:20120317T123000
CATEGORIES:75
LOCATION:PARIS 16
WEBSITE:
URL:
CONTACT:
ORGANIZER;CN=harmony:https://epanews.fr/profile/harmony
ATTACH;FMTTYPE="image/jpeg":http://storage.ning.com/topology/rest/1.0/
 file/get/1662572532?profile=original
ATTENDEE;ROLE=REQ-PARTICIPANT;PARTSTAT=ACCEPTED;RSVP=TRUE;CN=harmony:h
 ttps://epanews.fr/profile/harmony
END:VEVENT
END:VCALENDAR
