BEGIN:VCALENDAR
PRODID:NingEventWidget-v1
VERSION:2.0
METHOD:PUBLISH
BEGIN:VTIMEZONE
TZID:Europe/Paris
X-LIC-LOCATION:Europe/Paris
BEGIN:DAYLIGHT
TZOFFSETFROM:+0100
TZOFFSETTO:+0200
TZNAME:CEST
DTSTART:19700329T020000
RRULE:FREQ=YEARLY;BYMONTH=3;BYDAY=-1SU
END:DAYLIGHT
BEGIN:STANDARD
TZOFFSETFROM:+0200
TZOFFSETTO:+0100
TZNAME:CET
DTSTART:19701025T030000
RRULE:FREQ=YEARLY;BYMONTH=10;BYDAY=-1SU
END:STANDARD
END:VTIMEZONE
BEGIN:VEVENT
UID:2485226:Event:689785
DTSTAMP:20260422T075240Z
SUMMARY:CafÃ© de l'harmonie sam 18 fÃ©vrier 2012 de 11h00 Ã  12h30
DESCRIPTION:Espace convivial, pour nous exprimer sur le thÃ¨me :\n\nÂ 
 \" Savoir aimer plutÃ´t que rÃªver d'amour... Est-ce la clef du bonheu
 r ? \"\n\nAprÃ¨s la Saint Valentin, partageons nos idÃ©es sur ce beau 
 thÃ¨me.\n\nLe CafÃ© de l'harmonie est un instant de vie, d'Ã©coute d'Ã
 ©change et de partage, pour Ãªtre au coeur du bien-Ãªtre et... de l'ha
 rmonie.\n\nPour plus d'information, aller sur https://epanews.fr/event
 s/caf-de-l-harmonie-sam-18-f-vrier-2012-de-11h00-12h30
DTSTART;TZID=Europe/Paris:20120218T110000
DTEND;TZID=Europe/Paris:20120218T123000
CATEGORIES:75
LOCATION:PARIS 16
WEBSITE:
URL:
CONTACT:
ORGANIZER;CN=harmony:https://epanews.fr/profile/harmony
ATTACH;FMTTYPE="image/jpeg":http://storage.ning.com/topology/rest/1.0/
 file/get/1662552886?profile=original
ATTENDEE;ROLE=REQ-PARTICIPANT;PARTSTAT=ACCEPTED;RSVP=TRUE;CN=NITA:http
 s://epanews.fr/profile/nita
ATTENDEE;ROLE=REQ-PARTICIPANT;PARTSTAT=ACCEPTED;RSVP=TRUE;CN=harmony:h
 ttps://epanews.fr/profile/harmony
END:VEVENT
END:VCALENDAR
