BEGIN:VCALENDAR
PRODID:NingEventWidget-v1
VERSION:2.0
METHOD:PUBLISH
BEGIN:VTIMEZONE
TZID:Europe/Paris
X-LIC-LOCATION:Europe/Paris
BEGIN:DAYLIGHT
TZOFFSETFROM:+0100
TZOFFSETTO:+0200
TZNAME:CEST
DTSTART:19700329T020000
RRULE:FREQ=YEARLY;BYMONTH=3;BYDAY=-1SU
END:DAYLIGHT
BEGIN:STANDARD
TZOFFSETFROM:+0200
TZOFFSETTO:+0100
TZNAME:CET
DTSTART:19701025T030000
RRULE:FREQ=YEARLY;BYMONTH=10;BYDAY=-1SU
END:STANDARD
END:VTIMEZONE
BEGIN:VEVENT
UID:2485226:Event:2463860
DTSTAMP:20260422T041252Z
SUMMARY:CafÃ© de l'amour : Pervers Narcissiques, bas les masques !
DESCRIPTION:Le CafÃ© de l'AMOUR, c'est...\nUn espace de paroles Un esp
 ace d'Ã©changes\nPour redessiner la carte du Tendre\nau coeur de Paris
  !\nLe CafÃ© de lâ€™amour a Ã©tÃ© crÃ©Ã© lors de la Saint-Valentin 200
 4 par BÃ©nÃ©dicte Ann. Il sâ€™agit dâ€™un Ã©vÃ©nement en soirÃ©e qui s
 e dÃ©roule chaque semaine Ã  Paris, chaque mois dans les autres villes
  et rÃ©unit de 100 Ã  200 personnes de tous Ã¢ges.\nDans lâ€™esprit de
 s cafÃ©s philo, entre le salon littÃ©raire et lâ€™atelier de dÃ©velopp
 ement personnel, ce lieu de rÃ©flexion et de partage aborde des thÃ¨me
 s en lien avec l'amour et le sentiment amoureux.\nUn auteur est invitÃ
 © Ã  prÃ©senter sa grille de lecture personnelle de la relation amoure
 use. Cet exposÃ© nourrit les dÃ©bats et les Ã©changes, favorisant ains
 i des interactions entre les participants. La confÃ©rence est ponctuÃ©
 e dâ€™ateliers interactifs et se termine par un moment convivial autou
 r dâ€™une collation et dâ€™un verre.\nBÃ©nÃ©dicte Ann est love coach. 
 Psychologue, psychanalyste et coach de formation, elle a Ã©tÃ© et resp
 onsable dâ€™une agence matrimoniale et de rencontre pendant une quinza
 ine dâ€™annÃ©es. Elle cherche Ã  transmettre au plus grand nombre les 
 clÃ©s pour rencontrer lâ€™amour, construire des relations durables et,
  d'une maniÃ¨re gÃ©nÃ©rale, Ãªtre bien dans tous les domaines de sa vi
 e.\nElle propose par ailleurs des consultations individuelles en vue d
 â€™Ã©tablir un diagnostic et dâ€™orienter ses clients vers les stages 
 et praticiens qui seront les plus efficaces pour eux.\nLundi, au cafÃ©
  de l'amour, elle recevra Anne-Clothilde Ziegler. Selon elle, les perv
 ers narcissiques avancent masquÃ©s et, sous leurs diffÃ©rents visages,
  construisent des relations d'emprise destructrices pour leurs proies 
 et leur entourage.\nAnne Clotilde ZiÃ©gler met Ã  nu les mÃ©canismes Ã
   l'Å“uvre dans ces relations toxiques, que ce soient les diffÃ©rents 
 visages du prÃ©dateur mais aussi ceux des victimes, pour les guider ve
 rs leur chemin de rÃ©silience.\nForte de son expÃ©rience de psychothÃ©
 rapeute, Anne-Clotilde ZiÃ©gler s'adresse Ã  ceux qui, directement ou 
 dans leur entourage, ont Ã©tÃ© happÃ©s par l'emprise d'un pervers narc
 issique. IllustrÃ©e par de nombreux exemples tirÃ©s de sa pratique, el
 le offre une vision claire de ce phÃ©nomÃ¨ne toxique, une analyse des 
 mÃ©canismes Ã  l'Å“uvre dans ces relations pathologiques, et des chemi
 ns de rÃ©silience pour sortir de l'emprise et guÃ©rir des traces qu'el
 le a laissÃ©.\n1. Les mÃ©canismes de la relation d'emprise entre le pe
 rvers narcissique et sa proie.\n2. Les critÃ¨res d'identification d'un
  pervers narcissique : une dÃ©finition claire qui diffÃ©rencie les dys
 fonctionnements, dÃ©viations et pathologies de la perversion narcissiq
 ue.\n3. Les diffÃ©rents visages du pervers narcissique : un panorama g
 lobal des diffÃ©rents contextes et relations oÃ¹ le phÃ©nomÃ¨ne d'empr
 ise peut s'exprimer (amour, amitiÃ©, travail, famille...)\n4. Les vict
 imes de l'emprise : une analyse des effets destructeurs, sur le corps 
 et l'esprit, de la relation qui permet d'identifier les zones vulnÃ©ra
 bles de proies, pour les renforcer et sortir de l'emprise\n5. Les chem
 ins de rÃ©silience : comment faire face aux manipulations, mais aussi 
 comment se reconstruire aprÃ¨s Ãªtre sorti du piÃ¨ge.\nBiographie de l
 'auteur\nAnne Clotilde ZiÃ©glerest psychothÃ©rapeute, analyste transac
 tionnelle certifiÃ©e et somato-psychopÃ©dagogue. Elle exerce depuis vi
 ngt-cinq ans en cabinet libÃ©ral, mais donne aussi des formations en o
 rganisation et supervise du personnel dans le secteur de la petite enf
 ance.\n\nPour plus d'information, aller sur https://epanews.fr/events/
 caf-de-l-amour-pervers-narcissiques-bas-les-masques
DTSTART;TZID=Europe/Paris:20151102T200000
DTEND;TZID=Europe/Paris:20151102T220000
CATEGORIES:75
LOCATION:Paris 1, CafÃ© du Pont Neuf, Ã  l'Ã©tage
WEBSITE:http://www.cafedelamour.fr
URL:http://www.cafedelamour.fr
CONTACT:0612782630
ORGANIZER;CN=cafedelamour:https://epanews.fr/profile/cafedelamour
ATTACH;FMTTYPE="image/jpeg":http://storage.ning.com/topology/rest/1.0/
 file/get/1663476768?profile=original
ATTENDEE;ROLE=REQ-PARTICIPANT;PARTSTAT=ACCEPTED;RSVP=TRUE;CN=cafedelam
 our:https://epanews.fr/profile/cafedelamour
END:VEVENT
END:VCALENDAR
