BEGIN:VCALENDAR
PRODID:NingEventWidget-v1
VERSION:2.0
METHOD:PUBLISH
BEGIN:VTIMEZONE
TZID:Europe/Paris
X-LIC-LOCATION:Europe/Paris
BEGIN:DAYLIGHT
TZOFFSETFROM:+0100
TZOFFSETTO:+0200
TZNAME:CEST
DTSTART:19700329T020000
RRULE:FREQ=YEARLY;BYMONTH=3;BYDAY=-1SU
END:DAYLIGHT
BEGIN:STANDARD
TZOFFSETFROM:+0200
TZOFFSETTO:+0100
TZNAME:CET
DTSTART:19701025T030000
RRULE:FREQ=YEARLY;BYMONTH=10;BYDAY=-1SU
END:STANDARD
END:VTIMEZONE
BEGIN:VEVENT
UID:2485226:Event:588046
DTSTAMP:20260423T194726Z
SUMMARY:Cérémonies du tabac sacré, temazkal, Tlamanalli et rêve é
 veillé
DESCRIPTION:je vous invite à venir nous rejoindre pour partager avec 
 Ulises Tlakaozelotl \"Homme Jaguar\", détenteur de la pipe sacrée et
  gardien de la parole de ses ancêtres du Mexique, une fin de semaine 
 de cérémonies où nous travaillerons l'introspection,  la reconnexio
 n et l'harmonie avec les éléments, nous allons aussi faire une gran
 de offrande à notre Terre Mère.\n \nPour recevoir le programme dé
 taillé, envoyez-nous un e-mail à aztekart@hotmail.com \nVous pouvez
  aussi vous rendre sur notre site www.aztekart.net\n \nAmour, Paix et
  Harmonie à tous OMETEOTL\n\n\nPour plus d'information, aller sur htt
 ps://epanews.fr/events/c-r-monies-du-tabac-sacr-temazkal-tlamanalli-et
 -r-ve-veill
DTSTART;TZID=Europe/Paris:20111126T100000
DTEND;TZID=Europe/Paris:20111127T190000
CATEGORIES:05
LOCATION:Eourres
WEBSITE:http://www.aztekart.net
URL:http://www.aztekart.net
CONTACT:06.62.80.89.66
ORGANIZER;CN="ULISES OSORNO":https://epanews.fr/profile/ULISESOSORNO
ATTACH;FMTTYPE="image/jpeg":http://storage.ning.com/topology/rest/1.0/
 file/get/1662488464?profile=original
ATTENDEE;ROLE=REQ-PARTICIPANT;PARTSTAT=ACCEPTED;RSVP=TRUE;CN="ULISES O
 SORNO":https://epanews.fr/profile/ULISESOSORNO
END:VEVENT
END:VCALENDAR
