BEGIN:VCALENDAR
PRODID:NingEventWidget-v1
VERSION:2.0
METHOD:PUBLISH
BEGIN:VTIMEZONE
TZID:Europe/Paris
X-LIC-LOCATION:Europe/Paris
BEGIN:DAYLIGHT
TZOFFSETFROM:+0100
TZOFFSETTO:+0200
TZNAME:CEST
DTSTART:19700329T020000
RRULE:FREQ=YEARLY;BYMONTH=3;BYDAY=-1SU
END:DAYLIGHT
BEGIN:STANDARD
TZOFFSETFROM:+0200
TZOFFSETTO:+0100
TZNAME:CET
DTSTART:19701025T030000
RRULE:FREQ=YEARLY;BYMONTH=10;BYDAY=-1SU
END:STANDARD
END:VTIMEZONE
BEGIN:VEVENT
UID:2485226:Event:2789105
DTSTAMP:20260422T175232Z
SUMMARY:cérémonie chamanique de nuit tradition téonanacatl
DESCRIPTION:Cérémonie chamanique de nuit\nvendredi 24 février 2017\
 nAmélie les bains\n\navec Cristiana Pema Drolma et Elian amrit Nisarg
 \n \ninformations pratiques :\n 19h  cercle de parole pour partager
  les intentions\n20 h  séance de relaxation (bols tibétains)\n21 h 
 30  cérémonie de nuit tradition Téonanacatl\nLe lendemain matin ve
 rs 9 h petit déjeuner que nous\npartageons ensemble\ncercle de parole
  et clôture de la cérémonie\n prix : 90 Euros\nCRISTIANA : 04 68 9
 8 68 83 – 06 19 23 61 02\nELIAN : 06 65 21 56 38\nemail : chamanesse
 nce@gmail.com\nwww.chamanessence.com\n\nPour plus d'information, aller
  sur https://epanews.fr/events/c-r-monie-chamanique-de-nuit-tradition-
 t-onanacatl-4
DTSTART;TZID=Europe/Paris:20170224T190000
DTEND;TZID=Europe/Paris:20170225T000000
CATEGORIES:66, 11, 34, 09
LOCATION:amélie les bains
WEBSITE:http://www.chamanessence.com
URL:http://www.chamanessence.com
CONTACT:0468986883
ORGANIZER:
ATTACH;FMTTYPE="image/jpeg":http://storage.ning.com/topology/rest/1.0/
 file/get/1663641184?profile=original
ATTENDEE;ROLE=REQ-PARTICIPANT;PARTSTAT=ACCEPTED;RSVP=TRUE;CN=cristiana
 :https://epanews.fr/profile/cristiana
END:VEVENT
END:VCALENDAR
