BEGIN:VCALENDAR
PRODID:NingEventWidget-v1
VERSION:2.0
METHOD:PUBLISH
BEGIN:VTIMEZONE
TZID:Europe/Paris
X-LIC-LOCATION:Europe/Paris
BEGIN:DAYLIGHT
TZOFFSETFROM:+0100
TZOFFSETTO:+0200
TZNAME:CEST
DTSTART:19700329T020000
RRULE:FREQ=YEARLY;BYMONTH=3;BYDAY=-1SU
END:DAYLIGHT
BEGIN:STANDARD
TZOFFSETFROM:+0200
TZOFFSETTO:+0100
TZNAME:CET
DTSTART:19701025T030000
RRULE:FREQ=YEARLY;BYMONTH=10;BYDAY=-1SU
END:STANDARD
END:VTIMEZONE
BEGIN:VEVENT
UID:2485226:Event:2954098
DTSTAMP:20260419T214516Z
SUMMARY:cérémonie chamanique de nuit
DESCRIPTION:Cérémonie chamanique de nuit Samedi 26 mai 2018 Pyréné
 es Orientales Cristiana et Elian\nCette célébration sera l'opportuni
 té de visiter les limitations d'abondance et d'aborder ses nouvelles 
 créations au coeur de nous-mêmes.\nInformations pratiques : 20h 30 c
 ercle de parole pour partager les intentions 21 h 30 cérémonie de nu
 it tradition Téonanacatl Le lendemain matin vers 9 h petit déjeuner 
 que nous partageons ensemble cercle de parole et clôture de la céré
 monie Cristiana : 04 68 98 68 83 – 06 19 23 61 02 Elian : 06 65 21 5
 6 38 email : chamanessence@gmail.com www.chamanessence.com\n\n\nPour p
 lus d'information, aller sur https://epanews.fr/events/c-r-monie-chama
 nique-de-nuit-2
DTSTART;TZID=Europe/Paris:20180526T200000
DTEND;TZID=Europe/Paris:20180527T130000
CATEGORIES:66, 11, 34
LOCATION:amélie les bains pyrénées orientales
WEBSITE:
URL:
CONTACT:
ORGANIZER;CN=cristiana:https://epanews.fr/profile/cristiana
ATTACH;FMTTYPE="image/jpeg":http://storage.ning.com/topology/rest/1.0/
 file/get/1663738517?profile=original
ATTENDEE;ROLE=REQ-PARTICIPANT;PARTSTAT=ACCEPTED;RSVP=TRUE;CN=cristiana
 :https://epanews.fr/profile/cristiana
END:VEVENT
END:VCALENDAR
