BEGIN:VCALENDAR
PRODID:NingEventWidget-v1
VERSION:2.0
METHOD:PUBLISH
BEGIN:VTIMEZONE
TZID:Europe/Paris
X-LIC-LOCATION:Europe/Paris
BEGIN:DAYLIGHT
TZOFFSETFROM:+0100
TZOFFSETTO:+0200
TZNAME:CEST
DTSTART:19700329T020000
RRULE:FREQ=YEARLY;BYMONTH=3;BYDAY=-1SU
END:DAYLIGHT
BEGIN:STANDARD
TZOFFSETFROM:+0200
TZOFFSETTO:+0100
TZNAME:CET
DTSTART:19701025T030000
RRULE:FREQ=YEARLY;BYMONTH=10;BYDAY=-1SU
END:STANDARD
END:VTIMEZONE
BEGIN:VEVENT
UID:2485226:Event:3045028
DTSTAMP:20260425T013722Z
SUMMARY:Cérémonie cacao sacré
DESCRIPTION:L'atelier TRANS&DANSE est une invitation à la transe par
  la danse et la méditation, sous la guidance de Deva Cacao, révéré
 e plante sacrée et consommée dans les cérémonies Maya pour ouvrir
  le coeur et s'unifier.  Il a pour vocation d'éclairer le chemin de 
 sa vie et de faciliter notre transformation. De façon générale, 
 il permet d'approfondir le lien avec son être intérieur, d''éclaire
 r certaines parties troubles de sa vie, de répondre à des questions 
 existentielles, d'atteindre un meilleur niveau de compréhension de so
 i-même, d'accélérer les changements réellement voulus, de sortir p
 lus rapidement des vieux modèles et des traumas, de libérer le mouve
 ment de sa vie pour avancer avec plus d'assurance et de sérénité ve
 rs ses propres buts.\nL'atelier dure 3 heures. Il comprend différente
 s phases: - ouverture de la cérémonie : formation du cercle, appel a
 ux directions, ancrage et connexion aux dimensions supérieures - dans
 e dans un univers musical facilitant la transe - dégustation de la bo
 isson Cacao Sacré  - voyage chamanique au tambour - cercle de parole
 s\nInfos et inscriptions sur www.lavaguedevie.net\n\nPour plus d'infor
 mation, aller sur https://epanews.fr/events/c-r-monie-cacao-sacr-1
DTSTART;TZID=Europe/Paris:20191116T130000
DTEND;TZID=Europe/Paris:20191116T160000
CATEGORIES:75
LOCATION:Micadanses Paris 4
WEBSITE:https://www.lavaguedevie.net/transdanse.html
URL:https://www.lavaguedevie.net/transdanse.html
CONTACT:0683252454
ORGANIZER;CN=shamandra:https://epanews.fr/profile/shamandra
ATTACH;FMTTYPE="image/jpeg":https://storage.ning.com/topology/rest/1.0
 /file/get/3670820072?profile=original
ATTENDEE;ROLE=REQ-PARTICIPANT;PARTSTAT=ACCEPTED;RSVP=TRUE;CN=shamandra
 :https://epanews.fr/profile/shamandra
END:VEVENT
END:VCALENDAR
